Workbook
Name _ftn1: '3.11'!#REF!
Name _ftn10: '3.11'!#REF!
Name _ftn11: '3.11'!#REF!
Name _ftn2: '3.11'!#REF!
Name _ftn3: '3.11'!#REF!
Name _ftn4: '3.11'!#REF!
Name _ftn5: '3.11'!#REF!
Name _ftn6: '3.11'!#REF!
Name _ftn7: '3.11'!#REF!
Name _ftn8: '3.11'!#REF!
Name _ftn9: '3.11'!#REF!
Name _ftnref1: '3.11'!#REF!
Name _ftnref10: '3.11'!#REF!
Name _ftnref11: '3.11'!#REF!
Name _ftnref2: '3.11'!#REF!
Name _ftnref3: '3.11'!#REF!
Name _ftnref4: '3.11'!#REF!
Name _ftnref5: '3.11'!#REF!
Name _ftnref6: '3.11'!#REF!
Name _ftnref7: '3.11'!#REF!
Name _ftnref8: '3.11'!#REF!
Name _ftnref9: '3.11'!#REF!
Name asdf: '[1]2'!#REF!
Name asdf: '[1]2'!#REF!
Name asdf: '[1]2'!#REF!
Name asdf: '[1]2'!#REF!
Name asdfasd: '[1]2'!#REF!
Name asdfasd: '[1]2'!#REF!
Name asdfasd: '[1]2'!#REF!
Name asdfasd: '[1]2'!#REF!
Name asdfasdfasdf: '[1]2'!#REF!
Name asdfasdfasdf: '[1]2'!#REF!
Name asdfasdfasdf: '[1]2'!#REF!
Name asdfasdfasdf: '[1]2'!#REF!
Name d_cw: #REF!
Name d_cw: #REF!
Name d_cw: #REF!
Name f_cw: #REF!
Name f_cw: #REF!
Name f_cw: #REF!
Name id.AP6: #REF!
Name id.AP6: #REF!
Name id.AP6: #REF!
Name id.GCATsub: #REF!
Name id.GCATsub: #REF!
Name id.GCATsub: #REF!
Name Muskuloskelettale_Rehabilitation: '[1]2'!#REF!
Name Muskuloskelettale_Rehabilitation: '[1]2'!#REF!
Name OLE_LINK1: '3.11'!#REF!
Name par.CW: '[2](PAR)'!$A$99:$H$143
Name par.CWt: '[2](PAR)'!$A$53:$H$97
Name par.F.AP6: '[2](PAR)'!$A$7:$H$51
Name par.pF_ZH: '[2](PAR)'!$A$145:$H$189
Name par.pIPS: '[2](PAR)'!$A$191:$H$235
Name qq.pivotGDZH: #REF!
Name qq.pivotGDZH: #REF!
Name qq.pivotGDZH: #REF!
Name sdfsdf: '[1]2'!#REF!
Name sdfsdf: '[1]2'!#REF!
Name val.AP6: #REF!

Sheet Page de garde
F2: Direction de la santé et des affaires sociales DSAS
F3: Direktion für Gesundheit und Soziales GSD
A6: Offre pour la liste hospitalière du canton de Fribourg 2024
A7: - Soins somatiques aigus -
A8: du prestataire :
A9: Veuillez saisir : établissement hospitalier
A11: pour le site suivant :
A12: Veuillez saisir : site
B15: Votre demande doit être déposée d’ici au 31 octobre 2023
B16: Le dossier d’offre doit être chargé électroniquement. La confirmation signée (uniquement la feuille 5) doit également être remise sur papier.
B17: Adresse e-mail pour la remise électronique
B18: ssp@fr.ch
B20: Adresse postale pour la remise sur papier :
B21: Service de la santé publique SSP
B22: Route des Cliniques 17
B23: 1700 Fribourg
B26: Pour toute question, veuillez nous joindre à l’adresse suivante :
B27: Cyrill Berger, responsable planification hospitalière cantonale
B28: Tél. : 041 26 305 29 22
B29: E-Mail: cyrill.berger@fr.ch
A33: © Fichier MS Excel créé par Spitalplanung.swiss SA sur la base du fichier d’offre MS Excel soins somatiques aigus et du concept GPPH en soins somatiques aigus de la Direction de la santé du canton de Zurich
A35: spitalplanung.swiss SA

Sheet Contenu
A3: Table des matières
A5: Informations importantes sur l’appel d’offre | D5: 1 | F5: Informations sur l’appel d’offre
D6: 2 | F6: Définitions des groupes de prestations (introduction)
D7: 2.1 | F7: Groupes de prestations
D8: 2.2 | F8: Groupes de prestations et exigences
A9: Documents à remplir par l’offrant | D9: 3 | F9: Formulaires pour l’offre
D10: 3.1 | F10: Exigences générales (soins somatiques aigus)
D11: 3.2 | F11: Informations sur les spécialistes et leur disponibilité
D12: 3.3 | F12: Exigences relatives au service d’urgences
D13: 3.4 | F13: Exigences relatives aux unités de soins intensifs
D14: 3.5 | F14: Coopérations (liens)
D15: 3.6 | F15: Tumor boards
D16: 3.7 | F16: Autres exigences
D17: 3.8 | F17: Soins de base
D18: 3.9 | F18: Résumé de l’offre pour les groupes de prestations
D19: 3.1 | F19: Pédiatrie et chirurgie pédiatrique
D20: 3.11 | F20: Soins palliatifs spécialisés en milieu hospitalier
D21: 3.12 | F21: Maison de naissance
... D24: 5 | F24: Déclaration
A26: Note rédactionnelle
A28: Dans le présent document, la forme la plus courte est utilisée pour les désignations des professions et des personnes, les deux sexes étant toujours visés.

Sheet 1 Info
A3: 1. Informations sur l’appel d’offre
A5: Mesdames, Messieurs,
A7: Le canton de Fribourg organise un appel d’offre pour la liste 2024 des hôpitaux en soins somatiques aigus. Nous vous mettons à disposition le présent dossier d’offre (formulaire XLSX), qui contient toutes les informations nécessaires pour pour le dépôt de votre offre.
A8: Veuillez noter que vous devez présenter un dossier d’offre distinct pour chaque site, indépendamment d’éventuelles coopérations, de l’appartenance à une association ou d’autres obligations contractuelles. Un site hospitalier est une partie d’un hôpital qui jouit d’une certaine autonomie organisationnelle. Les collaborateurs actifs sur le site hospitalier sont soumis à la direction technique et organisationnelle (pouvoir de donner des instructions) de l’hôpital ou du site, conformément à l’organisation structurelle et fonctionnelle de l’hôpital. L’accès des personnes handicapées au traitement est garanti au sein du site hospitalier.
A10: Le champ d’application et la procédure d’examen de votre offre sont décrits ci-après :
A11: 1 | B11: Champ d’application de l’offre : Les planifications cantonales prescrites à l’art. 39, al. 1, let. d LAMal ne portent que sur le champ d’application de cette loi tel qu’il est défini en son art. 1a. Les mesures et traitements stationnaires non couverts par l’assurance obligatoire des soins (AOS) sont exclus de l’obligation de planifier, à savoir notamment les soins remboursés par l’assurance-accidents, l’assurance-invalidité et l’assurance militaire ou prodigués aux personnes soignées à leurs propres frais ou aux frais d’assurances privées. Le présent dossier d’offre s’adresse donc aux hôpitaux intéressés à proposer, sur la liste hospitalière 2024, des prestations stationnaires en soins somatiques aigus à la charge de l’AOS pour la population fribourgeoise.
A12: 2 | B12: Informations à fournir dans le cadre du dossier d’offre (autodéclaration) : Les hôpitaux intéressés par un mandat de prestation doivent remplir le présent dossier d’offre (autodéclaration). Le dossier sert de base à l’examen de l’adéquation pour la liste hospitalière 2024 et à l’octroi de mandats de prestation. Afin d’éviter autant que possible des erreurs dans l’autodéclaration, le Service de la santé publique vérifie les données fournies dans le dossier d’offre.
A14: La structure du dossier d’offre est présentée ci-après. Pour une meilleure compréhension, le code couleur suivant s’applique :
A16: Les feuilles rouges contiennent des informations sur les groupes de prestations et les exigences correspondantes (feuilles 2, 2.1 et 2.2).
A17: Les formulaires contenant l’offre proprement dite sont en gris (feuilles 3.1 à 5).
A18: La feuille 3.1 concerne les informations sur les exigences générales de qualité auxquelles doit satisfaire un hôpital répertorié. Elles doivent être remplies par tous les hôpitaux répertoriés figurant sur la liste hospitalière 2024.
A19: Les feuilles 3.2 à 3.7 contiennent des questions sur les exigences spécifiques à la prestation. Elles doivent également être complétées si vous souhaitez faire une offre pour le groupe de prestations concerné. Vos réponses à ces questions seront automatiquement reportées sur la feuille relative à l’offre en gris foncé (feuille 3.9).
A20: La feuille 3.8 vous permet d’indiquer lequel des deux paquets de base est envisageable pour le site hospitalier.
A21: Veuillez en outre fournir des renseignements sur les groupes de prestations Chirurgie pédiatrique et pédiatrie (feuille 3.10), Soins palliatifs spécialisés en milieu hospitalier (feuille 3.11) et maison de naissance (feuille 3.12), dans la mesure où ils présentent un intérêt pour le site concerné.
A22: La feuille 3.13 vous permet de fournir d’autres informations pertinentes au sujet de votre offre. Ces informations concernent les mandats de prestation pour d’autres cantons (coordination intercantonale) ainsi que les mandats de prestation dans les domaines de la réadaptation et de la psychiatrie (synergies).
A23: Remplissez ensuite les informations générales requises (feuille 4) et la confirmation (feuille 5). Imprimez finalement la feuille 5 et signez la confirmation (uniquement la feuille 5).
A25: En raison de son importance particulière, la feuille relative à l’offre 3.9 est surlignée en gris foncé. Elle contient un aperçu des indications que vous avez fournies aux feuilles 3.2 à 3.8 concernant les exigences spécifiques aux prestations. Afin de faciliter la lecture, les couleurs suivantes ont été utilisées pour les différentes exigences en fonction des informations que vous avez fournies :
A27: Vous pouvez saisir vos données dans les champs jaune clair. Les autres champs sont bloqués. Toutes les informations importantes pour votre offre doivent être consignées dans le présent formulaire d’offre ou dans un document séparé, avec une description succincte et un renvoi au document en question. Avant de déposer votre offre, veuillez vous assurer que tous les champs en jaune ont été remplis et qu’il ne reste plus aucun champ jaune, à l’exception des champs de texte libre.
A28: Les champs de saisie sont en vert clair si votre offre concerne le groupe de prestations ou si vous répondez aux conditions requises.
... A30: Les champs de saisie sont gris si votre offre ne concerne pas le groupe de prestations en question.
B32: Il est donc recommandé de procéder de la manière suivante pour lire et remplir le formulaire :
A101: Attention !
A103: Les documents relatifs à l’appel d’offre doivent être remplis de manière exacte et conformément à l’état actuel des connaissances. Les champs sur fond jaune clair doivent être remplis dans ce sens, les autres champs sont bloqués. Toutes les informations importantes pour votre offre doivent être consignées dans le présent formulaire d’offre ou dans un document séparé, avec une description succincte et un renvoi au document en question. Cela nous permet de renseigner vos informations directement dans nos systèmes et d’éviter les erreurs de transmission. Avant de déposer votre offre, veuillez vous assurer que tous les champs en jaune ont été remplis et qu’il ne reste plus aucun champ jaune, à l’exception des champs de texte libre. Les champs non remplis seront interprétés comme des réponses négatives. Nous nous réservons le droit d’exiger des preuves.
A104: De plus, nous attirons votre attention sur le fait qu’un mandat de prestation vous oblige à pouvoir fournir, en tout temps et dans les limites des capacités, toutes les prestations définies dans le mandat pour tous les patients domiciliés dans le canton de Fribourg. Cela signifie que vous devez disposer en tout temps du personnel spécialisé et de l’infrastructure médico-technique nécessaires pour être en mesure de fournir toutes les prestations définies dans le mandat de prestations sur le site hospitalier concerné. Il n’est pas permis de restreindre l’offre de prestations au sein d’un groupe de prestations.
A105: Remise du dossier d’offre
A106: Le dossier d’offre doit être remis sous forme électronique et être accompagné d’une confirmation imprimée et signée (feuille 5 uniquement). Seuls seront pris en compte les dossiers d’offre qui auront été remis sous forme électronique et sur papier comme demandé.
A107: Les dossiers d’offre doivent être déposés sous forme électronique jusqu’au 31 octobre 2023 à 23h59 à l’adresse suivante :
A108: ssp@fr.ch
A110: En outre, la confirmation signée par les personnes autorisées, feuille 5 du dossier de d’offre (uniquement la feuille 5) doit être retournée par poste jusqu’au 31 octobre 2023 (date du cachet de poste) à l’adresse suivante :
A111: Service de la santé publique SSP
A112: Route des Cliniques 17
A113: 1700 Fribourg
A116: Vous avez des questions ?
... A120: E-Mail: cyrill.berger@fr.ch

Sheet 2
A3: 2. Définitions des groupes de prestations (introduction)
A5: La liste hospitalière 2024 du canton de Fribourg pour les soins somatiques aigus se fonde sur les bases suivantes :
A6: - | B6: Exigences générales FR
A7: - | B7: Exigences spécifiques aux prestations en soins somatiques aigus ZH (état 1.1.2023)
A8: - | B8: Exigences supplémentaires portant sur des prestations spécifiques - Soins somatiques aigu ZH (état 1.1.2023)
A9: - | B9: GPPH en soins somatiques aigus, définition SPL2023 ZH (catalogues CIM et CHOP)
A10: - | B10: GPPH en soins somatiques aigus, règles SPL2023 ZH (règles d’attribution)
A12: La définition des groupes de prestations et les exigences spécifiques aux prestations sont conformes à la systématique GPPH du canton de Zurich. Exceptions :
A13: - | B13: Aucune à ce jour
A14: Les exigences du canton de Zurich s’appliquent par conséquent. Lorsqu’une exigence spécifique n’est pas remplie, p. ex. nombre minimum de cas, la qualité doit et peut être garantie par une alternative équivalente. Ceci doit être indiqué et expliqué dans l’offre.
A15: L’offre doit en outre se baser sur la version du groupeur pour la définition des groupes de prestations de la GDZH en vigueur au moment de l’offre et sur les catalogues CHOP et CIM pour l’attribution des cas au sein des groupes de prestations médicales. L’aperçu des versions du groupeur se trouve sur le site Internet de la CDS et de la GDZH.
A16: Vous trouverez ci-dessous tous les groupes de prestations, classés selon les domaines de prestations déjà connus du concept de groupes de prestations pour les soins somatiques aigus. Les groupes de prestations sont structurés hiérarchiquement par domaine de prestations, comme l’indique la numérotation de l’abréviation. Par exemple, le groupe de prestations VIS1 constitue la base pour les autres groupes de prestations en chirurgie viscérale avec les abréviations VIS1.1-VIS1.5.
A17: Le paquet de base (PB) et le paquet de base programmé (PBP) forment le fondement pour tous les autres groupes de prestations. Le paquet de base (PB) constitue la base et est obligatoire pour tous les hôpitaux disposant d’un service d’urgences. Le PB comprend les prestations qui doivent être fournies en tout temps et dans leur intégralité par tous les hôpitaux répertoriés. Le paquet de base programmé (PBP) sert quant à lui de base pour les prestataires qui travaillent principalement en soins programmés et qui ne disposent pas d’un service d’urgences. Vous trouverez des informations plus détaillées à la feuille 3.8.

Sheet 2.1
A3: 2.1 Aperçu des groupes de prestations (selon liste hospitalière FR 2024)
A5: Domaine de prestation | B5: Groupes de prestations
A6: Intitulé | B6: Abréviation | C6: Intitulé
A7: =IF(ISBLANK('2.2'!B10),"",'2.2'!B10) -> Paquet de base | B7: =+'2.2'!C10 -> PB | C7: =+'2.2'!D10 -> Paquet de base chirurgie et médecine interne
A8: =IF(ISBLANK('2.2'!B11),"",'2.2'!B11) -> Paquet de base programmé | B8: =+'2.2'!C11 -> PBP | C8: =+'2.2'!D11 -> Paquet de base pour fournisseurs de prestations programmées
A9: =IF(ISBLANK('2.2'!B12),"",'2.2'!B12) -> Dermatologie | B9: =+'2.2'!C12 -> DER1 | C9: =+'2.2'!D12 -> Dermatologie (y c. vénérologie)
A10: =IF(ISBLANK('2.2'!B13),"",'2.2'!B13) | B10: =+'2.2'!C13 -> DER1.1 | C10: =+'2.2'!D13 -> Oncologie dermatologique
A11: =IF(ISBLANK('2.2'!B14),"",'2.2'!B14) | B11: =+'2.2'!C14 -> DER1.2 | C11: =+'2.2'!D14 -> Affections cutanées graves
A12: =IF(ISBLANK('2.2'!B15),"",'2.2'!B15) | B12: =+'2.2'!C15 -> DER2 | C12: =+'2.2'!D15 -> Traitement des plaies
A13: =IF(ISBLANK('2.2'!B16),"",'2.2'!B16) -> ORL | B13: =+'2.2'!C16 -> HNO1 | C13: =+'2.2'!D16 -> Oto-rhino-laryngologie (chirurgie ORL)
A14: =IF(ISBLANK('2.2'!B17),"",'2.2'!B17) | B14: =+'2.2'!C17 -> HNO1.1 | C14: =+'2.2'!D17 -> Chirurgie cervico-faciale
A15: =IF(ISBLANK('2.2'!B18),"",'2.2'!B18) | B15: =+'2.2'!C18 -> HNO1.1.1 | C15: =+'2.2'!D18 -> Interventions ORL complexes (chirurgie tumorale interdisciplinaire)
A16: =IF(ISBLANK('2.2'!B19),"",'2.2'!B19) | B16: =+'2.2'!C19 -> HNO1.2 | C16: =+'2.2'!D19 -> Chirurgie élargie du nez et des sinus
A17: =IF(ISBLANK('2.2'!B20),"",'2.2'!B20) | B17: =+'2.2'!C20 -> HNO1.2.1 | C17: =+'2.2'!D20 -> Chirurgie élargie du nez et des sinus avec ouverture de la dure-mère (chirurgie interdisciplinaire de la base du crâne)
A18: =IF(ISBLANK('2.2'!B21),"",'2.2'!B21) | B18: =+'2.2'!C21 -> HNO1.3 | C18: =+'2.2'!D21 -> Chirurgie de l’oreille moyenne (tympanoplastie, chirurgie mastoïdienne, ossiculoplastie y c. chirurgie stapédienne)
... A24: =IF(ISBLANK('2.2'!B27),"",'2.2'!B27) | B24: =+'2.2'!C27 -> NCH1.1 | C24: =+'2.2'!D27 -> Neurochirurgie spécialisée
B25: =+'2.2'!C28 -> NCH1.1.1 | C25: =+'2.2'!D28 -> Traitement des pathologies vasculaires du SNC autres que les anomalies vasculaires complexes (CIMHS)
B26: =+'2.2'!C29 -> NCH1.1.1.1 | C26: =+'2.2'!D29 -> Traitement des anomalies vasculaires complexes du SNC (CIMHS)
B27: =+'2.2'!C30 -> NCH1.1.2 | C27: =+'2.2'!D30 -> Neurochirurgie stéréotaxique fonctionnelle (CIMHS)
B28: =+'2.2'!C31 -> NCH1.1.3 | C28: =+'2.2'!D31 -> Chirurgie de l’épilepsie (CIMHS)
B29: =+'2.2'!C32 -> NCH2 | C29: =+'2.2'!D32 -> Neurochirurgie spinale
B30: =+'2.2'!C33 -> NCH2.1 | C30: =+'2.2'!D33 -> Processus expansifs intramédullaires primaires et secondaires (CIMHS)
B31: =+'2.2'!C34 -> NCH3 | C31: =+'2.2'!D34 -> Neurochirurgie périphérique
A32: =IF(ISBLANK('2.2'!B35),"",'2.2'!B35) -> Neurologie | B32: =+'2.2'!C35 -> NEU1 | C32: =+'2.2'!D35 -> Neurologie
A33: =IF(ISBLANK('2.2'!B36),"",'2.2'!B36) | B33: =+'2.2'!C36 -> NEU2 | C33: =+'2.2'!D36 -> Tumeur maligne secondaire du système nerveux
A34: =IF(ISBLANK('2.2'!B37),"",'2.2'!B37) | B34: =+'2.2'!C37 -> NEU2.1 | C34: =+'2.2'!D37 -> Tumeur primaire du système nerveux (sans patients palliatifs)
A35: =IF(ISBLANK('2.2'!B38),"",'2.2'!B38) | B35: =+'2.2'!C38 -> NEU3 | C35: =+'2.2'!D38 -> Maladies cérébrovasculaires
A36: =IF(ISBLANK('2.2'!B39),"",'2.2'!B39) | B36: =+'2.2'!C39 -> NEU3.1 | C36: =+'2.2'!D39 -> Traitement des maladies cérébrovasculaires en Stroke Center (CIMHS)
A37: =IF(ISBLANK('2.2'!B40),"",'2.2'!B40) | B37: =+'2.2'!C40 -> NEU4 | C37: =+'2.2'!D40 -> Epileptologie : diagnostic complexe
A38: =IF(ISBLANK('2.2'!B41),"",'2.2'!B41) | B38: =+'2.2'!C41 -> NEU4.1 | C38: =+'2.2'!D41 -> Epileptologie : traitement complexe
A39: =IF(ISBLANK('2.2'!B42),"",'2.2'!B42) | B39: =+'2.2'!C42 -> NEU4.2 | C39: =+'2.2'!D42 -> Epileptologie : diagnostic préopératoire de l’épilepsie (CIMHS)
A40: =IF(ISBLANK('2.2'!B43),"",'2.2'!B43) -> Ophtalmologie | B40: =+'2.2'!C43 -> AUG1 | C40: =+'2.2'!D43 -> Ophtalmologie
A41: =IF(ISBLANK('2.2'!B44),"",'2.2'!B44) | B41: =+'2.2'!C44 -> AUG1.1 | C41: =+'2.2'!D44 -> Strabologie
A42: =IF(ISBLANK('2.2'!B45),"",'2.2'!B45) | B42: =+'2.2'!C45 -> AUG1.2 | C42: =+'2.2'!D45 -> Orbite, paupières, voies lacrymales
A43: =IF(ISBLANK('2.2'!B46),"",'2.2'!B46) | B43: =+'2.2'!C46 -> AUG1.3 | C43: =+'2.2'!D46 -> Chirurgie spécialisée du segment antérieur
... A53: =IF(ISBLANK('2.2'!B56),"",'2.2'!B56) | B53: =+'2.2'!C56 -> VIS1.4 | C53: =+'2.2'!D56 -> Chirurgie bariatrique
B54: =+'2.2'!C57 -> VIS1.4.1 | C54: =+'2.2'!D57 -> Chirurgie bariatrique spécialisée (CIMHS)
A55: =IF(ISBLANK('2.2'!B58),"",'2.2'!B58) | B55: =+'2.2'!C58 -> VIS1.5 | C55: =+'2.2'!D58 -> Interventions sur le bas rectum (CIMHS)
A56: =IF(ISBLANK('2.2'!B59),"",'2.2'!B59) -> Hématologie | B56: =+'2.2'!C59 -> HAE1 | C56: =+'2.2'!D59 -> Lymphomes agressifs et leucémies aiguës
A57: =IF(ISBLANK('2.2'!B60),"",'2.2'!B60) | B57: =+'2.2'!C60 -> HAE1.1 | C57: =+'2.2'!D60 -> Lymphomes très agressifs et leucémies aiguës avec chimiothérapie curative
...

Sheet 2.2
A3: 22.2 Groupes de prestations et exigences sur la base de l’annexe à la liste hospitalière zurichoise 2023 en soins somatiques aigus : Exigences spécifiques aux prestations (version 2023.1 ; valable à partir du 1er janvier 2023)
A5: Les groupes de prestations sont énumérés ci-dessous avec les exigences spécifiques correspondantes. Les exigences sont décrites en détail dans les tableaux 3.3 à 3.8. De plus amples informations sur les exigences spécifiques aux prestations sont décrites dans le document « Exigences supplémentaires portant sur des prestations spécifiques - Soins somatiques aigu ZH (état 1.1.2023) ».
A7: =+interne1!A1 -> Grands domaines | B7: =+interne1!B1 -> Domaines de prestations | C7: =+interne1!C1 -> Groupes de prestations | E7: Exigences spécifiques aux groupes de prestations
J8: Liens
C9: =+interne1!C2 -> Abréviation | D9: =+interne1!D2 -> Intitulé | E9: =+interne1!I2 -> Paquet de base | F9: =+interne1!E2 -> Spécialiste FMH / formations approfondies : | G9: =+interne1!F2 -> Dispo- nibilité | H9: =+interne1!G2 -> Service d’urgences | I9: =+interne1!H2 -> Soins intensifs | J9: =+interne1!J2 -> Uniquement en interne | K9: =+interne1!K2 -> En interne ou en coopération | L9: =+interne1!L2 -> Tumor board | M9: =+interne1!M2 -> Nombre minimum de cas (NMC) | N9: =+interne1!N2 -> Autres exigences
A10: =IF(ISBLANK(interne1!A3),"",interne1!A3) -> Soins de base | B10: =IF(ISBLANK(interne1!B3),"",interne1!B3) -> Paquet de base | C10: =IF(ISBLANK(interne1!C3),"",interne1!C3) -> PB | D10: =IF(ISBLANK(interne1!D3),"",interne1!D3) -> Paquet de base chirurgie et médecine interne | E10: =IF(ISBLANK(interne1!I3),"",interne1!I3) | F10: =IF(ISBLANK(interne1!E3),"",interne1!E3) -> Médecine interne générale et chirurgie et anesthésiologie | G10: =IF(ISBLANK(interne1!F3),"",interne1!F3) -> 1 | H10: =IF(ISBLANK(interne1!G3),"",interne1!G3) -> 1 | I10: =IF(ISBLANK(interne1!H3),"",interne1!H3) -> 1 | J10: =IF(ISBLANK(interne1!J3),"",interne1!J3) | K10: =IF(ISBLANK(interne1!K3),"",interne1!K3) | L10: =IF(ISBLANK(interne1!L3),"",interne1!L3) | M10: =IF(ISBLANK(interne1!M3),"",interne1!M3) | N10: =IF(ISBLANK(interne1!N3),"",interne1!N3)
A11: =IF(ISBLANK(interne1!A4),"",interne1!A4) | B11: =IF(ISBLANK(interne1!B4),"",interne1!B4) -> Paquet de base programmé | C11: =IF(ISBLANK(interne1!C4),"",interne1!C4) -> PBP | D11: =IF(ISBLANK(interne1!D4),"",interne1!D4) -> Paquet de base pour fournisseurs de prestations programmées | E11: =IF(ISBLANK(interne1!I4),"",interne1!I4) | F11: =IF(ISBLANK(interne1!E4),"",interne1!E4) -> En fonction du groupe de prestations | G11: =IF(ISBLANK(interne1!F4),"",interne1!F4) -> 2 | H11: =IF(ISBLANK(interne1!G4),"",interne1!G4) -> 0 | I11: =IF(ISBLANK(interne1!H4),"",interne1!H4) -> 1 | J11: =IF(ISBLANK(interne1!J4),"",interne1!J4) | K11: =IF(ISBLANK(interne1!K4),"",interne1!K4) -> PB | L11: =IF(ISBLANK(interne1!L4),"",interne1!L4) | M11: =IF(ISBLANK(interne1!M4),"",interne1!M4) | N11: =IF(ISBLANK(interne1!N4),"",interne1!N4)
A12: =IF(ISBLANK(interne1!A5),"",interne1!A5) -> Système nerveux et organes sensoriels | B12: =IF(ISBLANK(interne1!B5),"",interne1!B5) -> Dermatologie | C12: =IF(ISBLANK(interne1!C5),"",interne1!C5) -> DER1 | D12: =IF(ISBLANK(interne1!D5),"",interne1!D5) -> Dermatologie (y c. vénérologie) | E12: =IF(ISBLANK(interne1!I5),"",interne1!I5) -> PB | F12: =IF(ISBLANK(interne1!E5),"",interne1!E5) -> (dermatologie et vénérologie) | G12: =IF(ISBLANK(interne1!F5),"",interne1!F5) -> 1 | H12: =IF(ISBLANK(interne1!G5),"",interne1!G5) -> 2 | I12: =IF(ISBLANK(interne1!H5),"",interne1!H5) -> 1 | J12: =IF(ISBLANK(interne1!J5),"",interne1!J5) | K12: =IF(ISBLANK(interne1!K5),"",interne1!K5) | L12: =IF(ISBLANK(interne1!L5),"",interne1!L5) | M12: =IF(ISBLANK(interne1!M5),"",interne1!M5) | N12: =IF(ISBLANK(interne1!N5),"",interne1!N5)
A13: =IF(ISBLANK(interne1!A6),"",interne1!A6) | B13: =IF(ISBLANK(interne1!B6),"",interne1!B6) | C13: =IF(ISBLANK(interne1!C6),"",interne1!C6) -> DER1.1 | D13: =IF(ISBLANK(interne1!D6),"",interne1!D6) -> Oncologie dermatologique | E13: =IF(ISBLANK(interne1!I6),"",interne1!I6) -> PB | F13: =IF(ISBLANK(interne1!E6),"",interne1!E6) -> (dermatologie et vénérologie) | G13: =IF(ISBLANK(interne1!F6),"",interne1!F6) | H13: =IF(ISBLANK(interne1!G6),"",interne1!G6) -> 0 | I13: =IF(ISBLANK(interne1!H6),"",interne1!H6) -> 1 | J13: =IF(ISBLANK(interne1!J6),"",interne1!J6) -> ONK1 | K13: =IF(ISBLANK(interne1!K6),"",interne1!K6) | L13: =IF(ISBLANK(interne1!L6),"",interne1!L6) -> oui | M13: =IF(ISBLANK(interne1!M6),"",interne1!M6) -> S:10 | N13: =IF(ISBLANK(interne1!N6),"",interne1!N6)
A14: =IF(ISBLANK(interne1!A7),"",interne1!A7) | B14: =IF(ISBLANK(interne1!B7),"",interne1!B7) | C14: =IF(ISBLANK(interne1!C7),"",interne1!C7) -> DER1.2 | D14: =IF(ISBLANK(interne1!D7),"",interne1!D7) -> Affections cutanées graves | E14: =IF(ISBLANK(interne1!I7),"",interne1!I7) -> PB | F14: =IF(ISBLANK(interne1!E7),"",interne1!E7) -> (dermatologie et vénérologie) | G14: =IF(ISBLANK(interne1!F7),"",interne1!F7) -> 2 | H14: =IF(ISBLANK(interne1!G7),"",interne1!G7) -> 2 | I14: =IF(ISBLANK(interne1!H7),"",interne1!H7) -> 2 | J14: =IF(ISBLANK(interne1!J7),"",interne1!J7) | K14: =IF(ISBLANK(interne1!K7),"",interne1!K7) | L14: =IF(ISBLANK(interne1!L7),"",interne1!L7) | M14: =IF(ISBLANK(interne1!M7),"",interne1!M7) | N14: =IF(ISBLANK(interne1!N7),"",interne1!N7)
A15: =IF(ISBLANK(interne1!A8),"",interne1!A8) | B15: =IF(ISBLANK(interne1!B8),"",interne1!B8) | C15: =IF(ISBLANK(interne1!C8),"",interne1!C8) -> DER2 | D15: =IF(ISBLANK(interne1!D8),"",interne1!D8) -> Traitement des plaies | E15: =IF(ISBLANK(interne1!I8),"",interne1!I8) -> PBP/PB | F15: =IF(ISBLANK(interne1!E8),"",interne1!E8) | G15: =IF(ISBLANK(interne1!F8),"",interne1!F8) | H15: =IF(ISBLANK(interne1!G8),"",interne1!G8) -> 0 | I15: =IF(ISBLANK(interne1!H8),"",interne1!H8) -> 0 | J15: =IF(ISBLANK(interne1!J8),"",interne1!J8) | K15: =IF(ISBLANK(interne1!K8),"",interne1!K8) | L15: =IF(ISBLANK(interne1!L8),"",interne1!L8) | M15: =IF(ISBLANK(interne1!M8),"",interne1!M8) | N15: =IF(ISBLANK(interne1!N8),"",interne1!N8) -> Centre de compétences plaies
A16: =IF(ISBLANK(interne1!A9),"",interne1!A9) | B16: =IF(ISBLANK(interne1!B9),"",interne1!B9) -> ORL | C16: =IF(ISBLANK(interne1!C9),"",interne1!C9) -> HNO1 | D16: =IF(ISBLANK(interne1!D9),"",interne1!D9) -> Oto-rhino-laryngologie (chirurgie ORL) | E16: =IF(ISBLANK(interne1!I9),"",interne1!I9) -> PBP/PB | F16: =IF(ISBLANK(interne1!E9),"",interne1!E9) -> Oto-rhino-laryngologie | G16: =IF(ISBLANK(interne1!F9),"",interne1!F9) -> 2 | H16: =IF(ISBLANK(interne1!G9),"",interne1!G9) -> 0 | I16: =IF(ISBLANK(interne1!H9),"",interne1!H9) -> 1 | J16: =IF(ISBLANK(interne1!J9),"",interne1!J9) | K16: =IF(ISBLANK(interne1!K9),"",interne1!K9) | L16: =IF(ISBLANK(interne1!L9),"",interne1!L9) | M16: =IF(ISBLANK(interne1!M9),"",interne1!M9) | N16: =IF(ISBLANK(interne1!N9),"",interne1!N9)
A17: =IF(ISBLANK(interne1!A10),"",interne1!A10) | B17: =IF(ISBLANK(interne1!B10),"",interne1!B10) | C17: =IF(ISBLANK(interne1!C10),"",interne1!C10) -> HNO1.1 | D17: =IF(ISBLANK(interne1!D10),"",interne1!D10) -> Chirurgie cervico-faciale | E17: =IF(ISBLANK(interne1!I10),"",interne1!I10) -> PBP/PB | F17: =IF(ISBLANK(interne1!E10),"",interne1!E10) -> Oto-rhino-laryngologie | G17: =IF(ISBLANK(interne1!F10),"",interne1!F10) -> 2 | H17: =IF(ISBLANK(interne1!G10),"",interne1!G10) -> 0 | I17: =IF(ISBLANK(interne1!H10),"",interne1!H10) -> 1 | J17: =IF(ISBLANK(interne1!J10),"",interne1!J10) | K17: =IF(ISBLANK(interne1!K10),"",interne1!K10) | L17: =IF(ISBLANK(interne1!L10),"",interne1!L10) | M17: =IF(ISBLANK(interne1!M10),"",interne1!M10) | N17: =IF(ISBLANK(interne1!N10),"",interne1!N10)
A18: =IF(ISBLANK(interne1!A11),"",interne1!A11) | B18: =IF(ISBLANK(interne1!B11),"",interne1!B11) | C18: =IF(ISBLANK(interne1!C11),"",interne1!C11) -> HNO1.1.1 | D18: =IF(ISBLANK(interne1!D11),"",interne1!D11) -> Interventions ORL complexes (chirurgie tumorale interdisciplinaire) | E18: =IF(ISBLANK(interne1!I11),"",interne1!I11) -> PBP/PB | F18: =IF(ISBLANK(interne1!E11),"",interne1!E11) -> (Oto-rhino-laryngologie avec formation approfondie en chirurgie cervico-faciale) | G18: =IF(ISBLANK(interne1!F11),"",interne1!F11) -> 2 | H18: =IF(ISBLANK(interne1!G11),"",interne1!G11) -> 0 | I18: =IF(ISBLANK(interne1!H11),"",interne1!H11) -> 2 | J18: =IF(ISBLANK(interne1!J11),"",interne1!J11) -> KIE1 | K18: =IF(ISBLANK(interne1!K11),"",interne1!K11) | L18: =IF(ISBLANK(interne1!L11),"",interne1!L11) -> oui | M18: =IF(ISBLANK(interne1!M11),"",interne1!M11) | N18: =IF(ISBLANK(interne1!N11),"",interne1!N11)
A19: =IF(ISBLANK(interne1!A12),"",interne1!A12) | B19: =IF(ISBLANK(interne1!B12),"",interne1!B12) | C19: =IF(ISBLANK(interne1!C12),"",interne1!C12) -> HNO1.2 | D19: =IF(ISBLANK(interne1!D12),"",interne1!D12) -> Chirurgie élargie du nez et des sinus | E19: =IF(ISBLANK(interne1!I12),"",interne1!I12) -> PBP/PB | F19: =IF(ISBLANK(interne1!E12),"",interne1!E12) -> Oto-rhino-laryngologie | G19: =IF(ISBLANK(interne1!F12),"",interne1!F12) -> 2 | H19: =IF(ISBLANK(interne1!G12),"",interne1!G12) -> 0 | I19: =IF(ISBLANK(interne1!H12),"",interne1!H12) -> 1 | J19: =IF(ISBLANK(interne1!J12),"",interne1!J12) | K19: =IF(ISBLANK(interne1!K12),"",interne1!K12) | L19: =IF(ISBLANK(interne1!L12),"",interne1!L12) | M19: =IF(ISBLANK(interne1!M12),"",interne1!M12) | N19: =IF(ISBLANK(interne1!N12),"",interne1!N12)
A20: =IF(ISBLANK(interne1!A13),"",interne1!A13) | B20: =IF(ISBLANK(interne1!B13),"",interne1!B13) | C20: =IF(ISBLANK(interne1!C13),"",interne1!C13) -> HNO1.2.1 | D20: =IF(ISBLANK(interne1!D13),"",interne1!D13) -> Chirurgie élargie du nez et des sinus avec ouverture de la dure-mère (chirurgie interdisciplinaire de la base du crâne) | E20: =IF(ISBLANK(interne1!I13),"",interne1!I13) -> PB | F20: =IF(ISBLANK(interne1!E13),"",interne1!E13) -> (Oto-rhino-laryngologie avec formation approfondie en chirurgie cervico-faciale) | G20: =IF(ISBLANK(interne1!F13),"",interne1!F13) -> 2 | H20: =IF(ISBLANK(interne1!G13),"",interne1!G13) -> 0 | I20: =IF(ISBLANK(interne1!H13),"",interne1!H13) -> 1 | J20: =IF(ISBLANK(interne1!J13),"",interne1!J13) -> NCH1 | K20: =IF(ISBLANK(interne1!K13),"",interne1!K13) | L20: =IF(ISBLANK(interne1!L13),"",interne1!L13) | M20: =IF(ISBLANK(interne1!M13),"",interne1!M13) | N20: =IF(ISBLANK(interne1!N13),"",interne1!N13)
A21: =IF(ISBLANK(interne1!A14),"",interne1!A14) | B21: =IF(ISBLANK(interne1!B14),"",interne1!B14) | C21: =IF(ISBLANK(interne1!C14),"",interne1!C14) -> HNO1.3 | D21: =IF(ISBLANK(interne1!D14),"",interne1!D14) -> Chirurgie de l’oreille moyenne (tympanoplastie, chirurgie mastoïdienne, ossiculoplastie y c. chirurgie stapédienne) | E21: =IF(ISBLANK(interne1!I14),"",interne1!I14) -> PBP/PB | F21: =IF(ISBLANK(interne1!E14),"",interne1!E14) -> Oto-rhino-laryngologie | G21: =IF(ISBLANK(interne1!F14),"",interne1!F14) -> 2 | H21: =IF(ISBLANK(interne1!G14),"",interne1!G14) -> 0 | I21: =IF(ISBLANK(interne1!H14),"",interne1!H14) -> 1 | J21: =IF(ISBLANK(interne1!J14),"",interne1!J14) | K21: =IF(ISBLANK(interne1!K14),"",interne1!K14) | L21: =IF(ISBLANK(interne1!L14),"",interne1!L14) | M21: =IF(ISBLANK(interne1!M14),"",interne1!M14) | N21: =IF(ISBLANK(interne1!N14),"",interne1!N14)
... A31: =IF(ISBLANK(interne1!A24),"",interne1!A24) | B31: =IF(ISBLANK(interne1!B24),"",interne1!B24) | C31: =IF(ISBLANK(interne1!C24),"",interne1!C24) -> NCH1.1.3 | D31: =IF(ISBLANK(interne1!D24),"",interne1!D24) -> Chirurgie de l’épilepsie (CIMHS) | E31: =IF(ISBLANK(interne1!I24),"",interne1!I24) | F31: =IF(ISBLANK(interne1!E24),"",interne1!E24) | G31: =IF(ISBLANK(interne1!F24),"",interne1!F24) | H31: =IF(ISBLANK(interne1!G24),"",interne1!G24) | I31: =IF(ISBLANK(interne1!H24),"",interne1!H24) | J31: =IF(ISBLANK(interne1!J24),"",interne1!J24) | K31: =IF(ISBLANK(interne1!K24),"",interne1!K24) | L31: =IF(ISBLANK(interne1!L24),"",interne1!L24) | M31: =IF(ISBLANK(interne1!M24),"",interne1!M24) | N31: =IF(ISBLANK(interne1!N24),"",interne1!N24) -> Les exigences actuelles de la CIMHS font foi
C32: =IF(ISBLANK(interne1!C25),"",interne1!C25) -> NCH2 | D32: =IF(ISBLANK(interne1!D25),"",interne1!D25) -> Neurochirurgie spinale | E32: =IF(ISBLANK(interne1!I25),"",interne1!I25) -> PBP/PB | F32: =IF(ISBLANK(interne1!E25),"",interne1!E25) -> (Neurochirurgie) | G32: =IF(ISBLANK(interne1!F25),"",interne1!F25) -> 2 | H32: =IF(ISBLANK(interne1!G25),"",interne1!G25) | I32: =IF(ISBLANK(interne1!H25),"",interne1!H25) -> 1 | J32: =IF(ISBLANK(interne1!J25),"",interne1!J25) | K32: =IF(ISBLANK(interne1!K25),"",interne1!K25) -> BEW8 | L32: =IF(ISBLANK(interne1!L25),"",interne1!L25) | M32: =IF(ISBLANK(interne1!M25),"",interne1!M25) | N32: =IF(ISBLANK(interne1!N25),"",interne1!N25)
C33: =IF(ISBLANK(interne1!C26),"",interne1!C26) -> NCH2.1 | D33: =IF(ISBLANK(interne1!D26),"",interne1!D26) -> Processus expansifs intramédullaires primaires et secondaires (CIMHS) | E33: =IF(ISBLANK(interne1!I26),"",interne1!I26) | F33: =IF(ISBLANK(interne1!E26),"",interne1!E26) | G33: =IF(ISBLANK(interne1!F26),"",interne1!F26) | H33: =IF(ISBLANK(interne1!G26),"",interne1!G26) | I33: =IF(ISBLANK(interne1!H26),"",interne1!H26) | J33: =IF(ISBLANK(interne1!J26),"",interne1!J26) | K33: =IF(ISBLANK(interne1!K26),"",interne1!K26) | L33: =IF(ISBLANK(interne1!L26),"",interne1!L26) | M33: =IF(ISBLANK(interne1!M26),"",interne1!M26) | N33: =IF(ISBLANK(interne1!N26),"",interne1!N26) -> Les exigences actuelles de la CIMHS font foi
C34: =IF(ISBLANK(interne1!C27),"",interne1!C27) -> NCH3 | D34: =IF(ISBLANK(interne1!D27),"",interne1!D27) -> Neurochirurgie périphérique | E34: =IF(ISBLANK(interne1!I27),"",interne1!I27) -> PBP/PB | F34: =IF(ISBLANK(interne1!E27),"",interne1!E27) -> (Neurochirurgie) | G34: =IF(ISBLANK(interne1!F27),"",interne1!F27) -> 2 | H34: =IF(ISBLANK(interne1!G27),"",interne1!G27) | I34: =IF(ISBLANK(interne1!H27),"",interne1!H27) -> 1 | J34: =IF(ISBLANK(interne1!J27),"",interne1!J27) -> BEW1 ou BEW2 ou BEW3 | K34: =IF(ISBLANK(interne1!K27),"",interne1!K27) | L34: =IF(ISBLANK(interne1!L27),"",interne1!L27) | M34: =IF(ISBLANK(interne1!M27),"",interne1!M27) | N34: =IF(ISBLANK(interne1!N27),"",interne1!N27)
A35: =IF(ISBLANK(interne1!A28),"",interne1!A28) | B35: =IF(ISBLANK(interne1!B28),"",interne1!B28) -> Neurologie | C35: =IF(ISBLANK(interne1!C28),"",interne1!C28) -> NEU1 | D35: =IF(ISBLANK(interne1!D28),"",interne1!D28) -> Neurologie | E35: =IF(ISBLANK(interne1!I28),"",interne1!I28) -> PB | F35: =IF(ISBLANK(interne1!E28),"",interne1!E28) -> (Neurologie) | G35: =IF(ISBLANK(interne1!F28),"",interne1!F28) -> 2 | H35: =IF(ISBLANK(interne1!G28),"",interne1!G28) -> 2 | I35: =IF(ISBLANK(interne1!H28),"",interne1!H28) -> 0 | J35: =IF(ISBLANK(interne1!J28),"",interne1!J28) | K35: =IF(ISBLANK(interne1!K28),"",interne1!K28) | L35: =IF(ISBLANK(interne1!L28),"",interne1!L28) | M35: =IF(ISBLANK(interne1!M28),"",interne1!M28) | N35: =IF(ISBLANK(interne1!N28),"",interne1!N28)
A36: =IF(ISBLANK(interne1!A29),"",interne1!A29) | B36: =IF(ISBLANK(interne1!B29),"",interne1!B29) | C36: =IF(ISBLANK(interne1!C29),"",interne1!C29) -> NEU2 | D36: =IF(ISBLANK(interne1!D29),"",interne1!D29) -> Tumeur maligne secondaire du système nerveux | E36: =IF(ISBLANK(interne1!I29),"",interne1!I29) -> PB | F36: =IF(ISBLANK(interne1!E29),"",interne1!E29) -> Médecine interne générale Neurologie Radio-oncologie / radiothérapie Oncologie médicale | G36: =IF(ISBLANK(interne1!F29),"",interne1!F29) -> 2 | H36: =IF(ISBLANK(interne1!G29),"",interne1!G29) -> 2 | I36: =IF(ISBLANK(interne1!H29),"",interne1!H29) -> 0 | J36: =IF(ISBLANK(interne1!J29),"",interne1!J29) | K36: =IF(ISBLANK(interne1!K29),"",interne1!K29) | L36: =IF(ISBLANK(interne1!L29),"",interne1!L29) -> oui | M36: =IF(ISBLANK(interne1!M29),"",interne1!M29) | N36: =IF(ISBLANK(interne1!N29),"",interne1!N29)
A37: =IF(ISBLANK(interne1!A30),"",interne1!A30) | B37: =IF(ISBLANK(interne1!B30),"",interne1!B30) | C37: =IF(ISBLANK(interne1!C30),"",interne1!C30) -> NEU2.1 | D37: =IF(ISBLANK(interne1!D30),"",interne1!D30) -> Tumeur primaire du système nerveux (sans patients palliatifs) | E37: =IF(ISBLANK(interne1!I30),"",interne1!I30) -> PB | F37: =IF(ISBLANK(interne1!E30),"",interne1!E30) -> Neurologie Neurochirurgie | G37: =IF(ISBLANK(interne1!F30),"",interne1!F30) -> 2 | H37: =IF(ISBLANK(interne1!G30),"",interne1!G30) -> 2 | I37: =IF(ISBLANK(interne1!H30),"",interne1!H30) -> 0 | J37: =IF(ISBLANK(interne1!J30),"",interne1!J30) -> NEU1 + NCH1 | K37: =IF(ISBLANK(interne1!K30),"",interne1!K30) -> RAO1 | L37: =IF(ISBLANK(interne1!L30),"",interne1!L30) -> oui | M37: =IF(ISBLANK(interne1!M30),"",interne1!M30) | N37: =IF(ISBLANK(interne1!N30),"",interne1!N30)
A38: =IF(ISBLANK(interne1!A31),"",interne1!A31) | B38: =IF(ISBLANK(interne1!B31),"",interne1!B31) | C38: =IF(ISBLANK(interne1!C31),"",interne1!C31) -> NEU3 | D38: =IF(ISBLANK(interne1!D31),"",interne1!D31) -> Maladies cérébrovasculaires | E38: =IF(ISBLANK(interne1!I31),"",interne1!I31) -> PB | F38: =IF(ISBLANK(interne1!E31),"",interne1!E31) -> Neurologie Médecine interne générale | G38: =IF(ISBLANK(interne1!F31),"",interne1!F31) -> 2 | H38: =IF(ISBLANK(interne1!G31),"",interne1!G31) -> 2 | I38: =IF(ISBLANK(interne1!H31),"",interne1!H31) -> 2 | J38: =IF(ISBLANK(interne1!J31),"",interne1!J31) | K38: =IF(ISBLANK(interne1!K31),"",interne1!K31) -> NEU3.1 | L38: =IF(ISBLANK(interne1!L31),"",interne1!L31) | M38: =IF(ISBLANK(interne1!M31),"",interne1!M31) | N38: =IF(ISBLANK(interne1!N31),"",interne1!N31) -> Stroke unit certifiée selon la Swiss Federation of Clinical Neuro-Societies (SFCNS)
A39: =IF(ISBLANK(interne1!A32),"",interne1!A32) | B39: =IF(ISBLANK(interne1!B32),"",interne1!B32) | C39: =IF(ISBLANK(interne1!C32),"",interne1!C32) -> NEU3.1 | D39: =IF(ISBLANK(interne1!D32),"",interne1!D32) -> Traitement des maladies cérébrovasculaires en Stroke Center (CIMHS) | E39: =IF(ISBLANK(interne1!I32),"",interne1!I32) | F39: =IF(ISBLANK(interne1!E32),"",interne1!E32) | G39: =IF(ISBLANK(interne1!F32),"",interne1!F32) | H39: =IF(ISBLANK(interne1!G32),"",interne1!G32) | I39: =IF(ISBLANK(interne1!H32),"",interne1!H32) | J39: =IF(ISBLANK(interne1!J32),"",interne1!J32) | K39: =IF(ISBLANK(interne1!K32),"",interne1!K32) | L39: =IF(ISBLANK(interne1!L32),"",interne1!L32) | M39: =IF(ISBLANK(interne1!M32),"",interne1!M32) | N39: =IF(ISBLANK(interne1!N32),"",interne1!N32) -> Les exigences actuelles de la CIMHS font foi
A40: =IF(ISBLANK(interne1!A33),"",interne1!A33) | B40: =IF(ISBLANK(interne1!B33),"",interne1!B33) | C40: =IF(ISBLANK(interne1!C33),"",interne1!C33) -> NEU4 | D40: =IF(ISBLANK(interne1!D33),"",interne1!D33) -> Epileptologie : diagnostic complexe | E40: =IF(ISBLANK(interne1!I33),"",interne1!I33) | F40: =IF(ISBLANK(interne1!E33),"",interne1!E33) -> Neurologie | G40: =IF(ISBLANK(interne1!F33),"",interne1!F33) -> 2 | H40: =IF(ISBLANK(interne1!G33),"",interne1!G33) | I40: =IF(ISBLANK(interne1!H33),"",interne1!H33) | J40: =IF(ISBLANK(interne1!J33),"",interne1!J33) | K40: =IF(ISBLANK(interne1!K33),"",interne1!K33) -> NEU4.1 + NEU4.2 | L40: =IF(ISBLANK(interne1!L33),"",interne1!L33) | M40: =IF(ISBLANK(interne1!M33),"",interne1!M33) -> S:10 | N40: =IF(ISBLANK(interne1!N33),"",interne1!N33) -> Un monitorage vidéo/EEG à long terme est obligatoire, personnel formé dans le domaine (FND) disponible en cas de besoin. Evaluation psychiatrique obligatoire pour le diagnostic d’une crise psychogène non épileptique.
A41: =IF(ISBLANK(interne1!A34),"",interne1!A34) | B41: =IF(ISBLANK(interne1!B34),"",interne1!B34) | C41: =IF(ISBLANK(interne1!C34),"",interne1!C34) -> NEU4.1 | D41: =IF(ISBLANK(interne1!D34),"",interne1!D34) -> Epileptologie : traitement complexe | E41: =IF(ISBLANK(interne1!I34),"",interne1!I34) | F41: =IF(ISBLANK(interne1!E34),"",interne1!E34) -> Neurologie | G41: =IF(ISBLANK(interne1!F34),"",interne1!F34) -> 2 | H41: =IF(ISBLANK(interne1!G34),"",interne1!G34) | I41: =IF(ISBLANK(interne1!H34),"",interne1!H34) | J41: =IF(ISBLANK(interne1!J34),"",interne1!J34) | K41: =IF(ISBLANK(interne1!K34),"",interne1!K34) | L41: =IF(ISBLANK(interne1!L34),"",interne1!L34) | M41: =IF(ISBLANK(interne1!M34),"",interne1!M34) -> S:10 | N41: =IF(ISBLANK(interne1!N34),"",interne1!N34) -> Des représentants de tous les domaines thérapeutiques impliqués doivent participer à chaque réunion hebdomadaire de l’équipe.
A42: =IF(ISBLANK(interne1!A35),"",interne1!A35) | B42: =IF(ISBLANK(interne1!B35),"",interne1!B35) | C42: =IF(ISBLANK(interne1!C35),"",interne1!C35) -> NEU4.2 | D42: =IF(ISBLANK(interne1!D35),"",interne1!D35) -> Epileptologie : diagnostic préopératoire de l’épilepsie (CIMHS) | E42: =IF(ISBLANK(interne1!I35),"",interne1!I35) | F42: =IF(ISBLANK(interne1!E35),"",interne1!E35) | G42: =IF(ISBLANK(interne1!F35),"",interne1!F35) | H42: =IF(ISBLANK(interne1!G35),"",interne1!G35) | I42: =IF(ISBLANK(interne1!H35),"",interne1!H35) | J42: =IF(ISBLANK(interne1!J35),"",interne1!J35) | K42: =IF(ISBLANK(interne1!K35),"",interne1!K35) | L42: =IF(ISBLANK(interne1!L35),"",interne1!L35) | M42: =IF(ISBLANK(interne1!M35),"",interne1!M35) | N42: =IF(ISBLANK(interne1!N35),"",interne1!N35) -> Les exigences actuelles de la CIMHS font foi
A43: =IF(ISBLANK(interne1!A36),"",interne1!A36) | B43: =IF(ISBLANK(interne1!B36),"",interne1!B36) -> Ophtalmologie | C43: =IF(ISBLANK(interne1!C36),"",interne1!C36) -> AUG1 | D43: =IF(ISBLANK(interne1!D36),"",interne1!D36) -> Ophtalmologie | E43: =IF(ISBLANK(interne1!I36),"",interne1!I36) -> PBP/PB | F43: =IF(ISBLANK(interne1!E36),"",interne1!E36) -> (Ophtalmologie avec formation approfondie en chirurgie ophtalmologique) | G43: =IF(ISBLANK(interne1!F36),"",interne1!F36) -> 2 | H43: =IF(ISBLANK(interne1!G36),"",interne1!G36) -> 0 | I43: =IF(ISBLANK(interne1!H36),"",interne1!H36) -> 1 | J43: =IF(ISBLANK(interne1!J36),"",interne1!J36) | K43: =IF(ISBLANK(interne1!K36),"",interne1!K36) | L43: =IF(ISBLANK(interne1!L36),"",interne1!L36) | M43: =IF(ISBLANK(interne1!M36),"",interne1!M36) | N43: =IF(ISBLANK(interne1!N36),"",interne1!N36)
A44: =IF(ISBLANK(interne1!A37),"",interne1!A37) | B44: =IF(ISBLANK(interne1!B37),"",interne1!B37) | C44: =IF(ISBLANK(interne1!C37),"",interne1!C37) -> AUG1.1 | D44: =IF(ISBLANK(interne1!D37),"",interne1!D37) -> Strabologie | E44: =IF(ISBLANK(interne1!I37),"",interne1!I37) -> PBP/PB | F44: =IF(ISBLANK(interne1!E37),"",interne1!E37) -> (Ophtalmologie avec formation approfondie en chirurgie ophtalmologique) | G44: =IF(ISBLANK(interne1!F37),"",interne1!F37) -> 2 | H44: =IF(ISBLANK(interne1!G37),"",interne1!G37) -> 0 | I44: =IF(ISBLANK(interne1!H37),"",interne1!H37) -> 1 | J44: =IF(ISBLANK(interne1!J37),"",interne1!J37) | K44: =IF(ISBLANK(interne1!K37),"",interne1!K37) | L44: =IF(ISBLANK(interne1!L37),"",interne1!L37) | M44: =IF(ISBLANK(interne1!M37),"",interne1!M37) | N44: =IF(ISBLANK(interne1!N37),"",interne1!N37)
A45: =IF(ISBLANK(interne1!A38),"",interne1!A38) | B45: =IF(ISBLANK(interne1!B38),"",interne1!B38) | C45: =IF(ISBLANK(interne1!C38),"",interne1!C38) -> AUG1.2 | D45: =IF(ISBLANK(interne1!D38),"",interne1!D38) -> Orbite, paupières, voies lacrymales | E45: =IF(ISBLANK(interne1!I38),"",interne1!I38) -> PBP/PB | F45: =IF(ISBLANK(interne1!E38),"",interne1!E38) -> (Ophtalmologie avec formation approfondie en chirurgie ophtalmologique) | G45: =IF(ISBLANK(interne1!F38),"",interne1!F38) -> 2 | H45: =IF(ISBLANK(interne1!G38),"",interne1!G38) -> 0 | I45: =IF(ISBLANK(interne1!H38),"",interne1!H38) -> 1 | J45: =IF(ISBLANK(interne1!J38),"",interne1!J38) | K45: =IF(ISBLANK(interne1!K38),"",interne1!K38) | L45: =IF(ISBLANK(interne1!L38),"",interne1!L38) | M45: =IF(ISBLANK(interne1!M38),"",interne1!M38) | N45: =IF(ISBLANK(interne1!N38),"",interne1!N38)
A46: =IF(ISBLANK(interne1!A39),"",interne1!A39) | B46: =IF(ISBLANK(interne1!B39),"",interne1!B39) | C46: =IF(ISBLANK(interne1!C39),"",interne1!C39) -> AUG1.3 | D46: =IF(ISBLANK(interne1!D39),"",interne1!D39) -> Chirurgie spécialisée du segment antérieur | E46: =IF(ISBLANK(interne1!I39),"",interne1!I39) -> PBP/PB | F46: =IF(ISBLANK(interne1!E39),"",interne1!E39) -> (Ophtalmologie avec formation approfondie en chirurgie ophtalmologique) | G46: =IF(ISBLANK(interne1!F39),"",interne1!F39) -> 2 | H46: =IF(ISBLANK(interne1!G39),"",interne1!G39) -> 0 | I46: =IF(ISBLANK(interne1!H39),"",interne1!H39) -> 1 | J46: =IF(ISBLANK(interne1!J39),"",interne1!J39) | K46: =IF(ISBLANK(interne1!K39),"",interne1!K39) | L46: =IF(ISBLANK(interne1!L39),"",interne1!L39) | M46: =IF(ISBLANK(interne1!M39),"",interne1!M39) | N46: =IF(ISBLANK(interne1!N39),"",interne1!N39)
... A56: =IF(ISBLANK(interne1!A49),"",interne1!A49) | B56: =IF(ISBLANK(interne1!B49),"",interne1!B49) | C56: =IF(ISBLANK(interne1!C49),"",interne1!C49) -> VIS1.4 | D56: =IF(ISBLANK(interne1!D49),"",interne1!D49) -> Chirurgie bariatrique | E56: =IF(ISBLANK(interne1!I49),"",interne1!I49) -> PB | F56: =IF(ISBLANK(interne1!E49),"",interne1!E49) -> (Chirurgie avec formation approfondie en chirurgie viscérale) | G56: =IF(ISBLANK(interne1!F49),"",interne1!F49) -> 2 | H56: =IF(ISBLANK(interne1!G49),"",interne1!G49) -> 2 | I56: =IF(ISBLANK(interne1!H49),"",interne1!H49) -> 1 | J56: =IF(ISBLANK(interne1!J49),"",interne1!J49) | K56: =IF(ISBLANK(interne1!K49),"",interne1!K49) -> END1 | L56: =IF(ISBLANK(interne1!L49),"",interne1!L49) | M56: =IF(ISBLANK(interne1!M49),"",interne1!M49) | N56: =IF(ISBLANK(interne1!N49),"",interne1!N49) -> Reconnaissance SMOB Centre primaire ou centre de référence
C57: =IF(ISBLANK(interne1!C50),"",interne1!C50) -> VIS1.4.1 | D57: =IF(ISBLANK(interne1!D50),"",interne1!D50) -> Chirurgie bariatrique spécialisée (CIMHS) | E57: =IF(ISBLANK(interne1!I50),"",interne1!I50) | F57: =IF(ISBLANK(interne1!E50),"",interne1!E50) | G57: =IF(ISBLANK(interne1!F50),"",interne1!F50) | H57: =IF(ISBLANK(interne1!G50),"",interne1!G50) | I57: =IF(ISBLANK(interne1!H50),"",interne1!H50) | J57: =IF(ISBLANK(interne1!J50),"",interne1!J50) | K57: =IF(ISBLANK(interne1!K50),"",interne1!K50) | L57: =IF(ISBLANK(interne1!L50),"",interne1!L50) | M57: =IF(ISBLANK(interne1!M50),"",interne1!M50) | N57: =IF(ISBLANK(interne1!N50),"",interne1!N50) -> Les exigences actuelles de la CIMHS font foi
A58: =IF(ISBLANK(interne1!A51),"",interne1!A51) | B58: =IF(ISBLANK(interne1!B51),"",interne1!B51) | C58: =IF(ISBLANK(interne1!C51),"",interne1!C51) -> VIS1.5 | D58: =IF(ISBLANK(interne1!D51),"",interne1!D51) -> Interventions sur le bas rectum (CIMHS) | E58: =IF(ISBLANK(interne1!I51),"",interne1!I51) | F58: =IF(ISBLANK(interne1!E51),"",interne1!E51) | G58: =IF(ISBLANK(interne1!F51),"",interne1!F51) | H58: =IF(ISBLANK(interne1!G51),"",interne1!G51) | I58: =IF(ISBLANK(interne1!H51),"",interne1!H51) | J58: =IF(ISBLANK(interne1!J51),"",interne1!J51) | K58: =IF(ISBLANK(interne1!K51),"",interne1!K51) | L58: =IF(ISBLANK(interne1!L51),"",interne1!L51) | M58: =IF(ISBLANK(interne1!M51),"",interne1!M51) | N58: =IF(ISBLANK(interne1!N51),"",interne1!N51) -> Les exigences actuelles de la CIMHS font foi
A59: =IF(ISBLANK(interne1!A52),"",interne1!A52) | B59: =IF(ISBLANK(interne1!B52),"",interne1!B52) -> Hématologie | C59: =IF(ISBLANK(interne1!C52),"",interne1!C52) -> HAE1 | D59: =IF(ISBLANK(interne1!D52),"",interne1!D52) -> Lymphomes agressifs et leucémies aiguës | E59: =IF(ISBLANK(interne1!I52),"",interne1!I52) -> PB | F59: =IF(ISBLANK(interne1!E52),"",interne1!E52) -> Hématologie Oncologie médicale Médecine interne générale | G59: =IF(ISBLANK(interne1!F52),"",interne1!F52) -> 1 | H59: =IF(ISBLANK(interne1!G52),"",interne1!G52) -> 1 | I59: =IF(ISBLANK(interne1!H52),"",interne1!H52) -> 2 | J59: =IF(ISBLANK(interne1!J52),"",interne1!J52) -> ONK1 | K59: =IF(ISBLANK(interne1!K52),"",interne1!K52) | L59: =IF(ISBLANK(interne1!L52),"",interne1!L52) -> oui | M59: =IF(ISBLANK(interne1!M52),"",interne1!M52) | N59: =IF(ISBLANK(interne1!N52),"",interne1!N52)
A60: =IF(ISBLANK(interne1!A53),"",interne1!A53) | B60: =IF(ISBLANK(interne1!B53),"",interne1!B53) | C60: =IF(ISBLANK(interne1!C53),"",interne1!C53) -> HAE1.1 | D60: =IF(ISBLANK(interne1!D53),"",interne1!D53) -> Lymphomes très agressifs et leucémies aiguës avec chimiothérapie curative | E60: =IF(ISBLANK(interne1!I53),"",interne1!I53) -> PB | F60: =IF(ISBLANK(interne1!E53),"",interne1!E53) -> Hématologie Oncologie médicale | G60: =IF(ISBLANK(interne1!F53),"",interne1!F53) -> 1 | H60: =IF(ISBLANK(interne1!G53),"",interne1!G53) -> 1 | I60: =IF(ISBLANK(interne1!H53),"",interne1!H53) -> 2 | J60: =IF(ISBLANK(interne1!J53),"",interne1!J53) -> ONK1 | K60: =IF(ISBLANK(interne1!K53),"",interne1!K53) | L60: =IF(ISBLANK(interne1!L53),"",interne1!L53) -> oui | M60: =IF(ISBLANK(interne1!M53),"",interne1!M53) -> S:10 | N60: =IF(ISBLANK(interne1!N53),"",interne1!N53)
A61: =IF(ISBLANK(interne1!A54),"",interne1!A54) | B61: =IF(ISBLANK(interne1!B54),"",interne1!B54) | C61: =IF(ISBLANK(interne1!C54),"",interne1!C54) -> HAE2 | D61: =IF(ISBLANK(interne1!D54),"",interne1!D54) -> Lymphomes indolents et leucémies chroniques | E61: =IF(ISBLANK(interne1!I54),"",interne1!I54) -> PB | F61: =IF(ISBLANK(interne1!E54),"",interne1!E54) -> Hématologie Oncologie médicale Médecine interne générale | G61: =IF(ISBLANK(interne1!F54),"",interne1!F54) -> 1 | H61: =IF(ISBLANK(interne1!G54),"",interne1!G54) -> 1 | I61: =IF(ISBLANK(interne1!H54),"",interne1!H54) -> 1 | J61: =IF(ISBLANK(interne1!J54),"",interne1!J54) -> ONK1 | K61: =IF(ISBLANK(interne1!K54),"",interne1!K54) | L61: =IF(ISBLANK(interne1!L54),"",interne1!L54) -> oui | M61: =IF(ISBLANK(interne1!M54),"",interne1!M54) | N61: =IF(ISBLANK(interne1!N54),"",interne1!N54)
A62: =IF(ISBLANK(interne1!A55),"",interne1!A55) | B62: =IF(ISBLANK(interne1!B55),"",interne1!B55) | C62: =IF(ISBLANK(interne1!C55),"",interne1!C55) -> HAE3 | D62: =IF(ISBLANK(interne1!D55),"",interne1!D55) -> Affections myéloprolifératives et syndromes myélodysplasiques | E62: =IF(ISBLANK(interne1!I55),"",interne1!I55) -> PB | F62: =IF(ISBLANK(interne1!E55),"",interne1!E55) -> Hématologie Oncologie médicale Médecine interne générale | G62: =IF(ISBLANK(interne1!F55),"",interne1!F55) -> 1 | H62: =IF(ISBLANK(interne1!G55),"",interne1!G55) -> 1 | I62: =IF(ISBLANK(interne1!H55),"",interne1!H55) -> 1 | J62: =IF(ISBLANK(interne1!J55),"",interne1!J55) | K62: =IF(ISBLANK(interne1!K55),"",interne1!K55) | L62: =IF(ISBLANK(interne1!L55),"",interne1!L55) -> oui | M62: =IF(ISBLANK(interne1!M55),"",interne1!M55) | N62: =IF(ISBLANK(interne1!N55),"",interne1!N55)
...

Sheet 3 Formulaires d'offre ->
A3: 3 Formulaires d’offre
C5: Veuillez répondre sur les feuilles grises ci-dessous à la question / aux questions concernant les points suivants : - Exigences générales (soins somatiques aigus) (feuille 3.1) - Exigences portant sur des prestations spécifiques (feuilles 3.2 – 3.7) - Exigences relatives aux soins de base (feuille 3.8) - Votre offre concerne-t-elle ce groupe de prestations de la liste hospitalière ? (sur la feuille gris foncé, feuille 3.9) - Exigences pour les domaines transversaux (feuilles 3.10 – 3.11), si le site fait une offre pour des prestations dans les domaines concernés. - Maison de naissance (feuille 3.12) - Autres informations relatives à l’offre (feuille 3.13) Prochaines étapes : - Informations générales sur le prestataire (feuille 4) - Confirmation / signatures (feuille 5)

Sheet 3.1
A1: Offre de l’établissement hospitalier : | C1: Pour le site :
A2: ='Page de garde'!$A$9 -> Veuillez saisir : établissement hospitalier | C2: ='Page de garde'!$A$12 -> Veuillez saisir : site
A3: 3.1 Exigences générales (soins somatiques aigus)
A5: Les exigences générales sont définies dans les documents mentionnés ci-après.
A6: - | B6: Exigences générales FR
A7: Les hôpitaux répertoriés doivent remplir en tout temps l’intégralité des exigences générales énoncées dans les documents susmentionnés pour pouvoir faire une offre pour les mandats de prestation. Le respect de ces exigences est donc une condition de base pour poursuivre l’établissement de votre offre pour les différents groupes de prestations.
F9: Exigences remplies à partir de 2024 ?
A10: Remplissez-vous toutes les exigences générales énoncées dans les documents susmentionnés ?
A12: Vous devez indiquer ci-dessous toutes les exigences qui ne sont pas entièrement remplies.
A13: Si vous ne répondez pas à une ou plusieurs des conditions 2024, veuillez préciser le problème. Indiquez également comment vous comptez compenser ce déficit afin de tout de même garantir la qualité requise. Veuillez systématiquement indiquer le document de référence et l’intitulé de la condition, ainsi que le chiffre ou la ligne auxquels vous vous référez. | C13: Nous attendons ici une explication sur chaque point pour lequel la condition n’est pas intégralement remplie.
A14: Compléments de portée générale. Veuillez systématiquement indiquer le document de référence avec le chiffre ou la ligne auxquels vous vous référez. | C14: Ceci est une cellule de texte libre.

Sheet 3.2
A1: ='3.1'!$A$1 -> Offre de l’établissement hospitalier : | B1: Pour le site :
A2: ='Page de garde'!$A$9 -> Veuillez saisir : établissement hospitalier | B2: ='Page de garde'!$A$12 -> Veuillez saisir : site
A3: 3.2 Informations sur les spécialistes et leur disponibilité
A5: Les spécialisations (FMH ou titre étranger équivalent) nécessaires dépendent du groupe de prestations. L’hôpital doit disposer d’au moins un des spécialistes mentionnés. En principe, les patients doivent être traités par ces spécialistes. Il incombe toutefois à l’hôpital ou aux spécialistes de déléguer le traitement. Lorsqu’un titre de spécialisation est indiqué, les interventions du groupe de prestations correspondant ne peuvent être pratiquées que par des opérateurs disposant de la qualification correspondante, qui interviennent en tant qu’opérateurs responsables.
A6: Si des prestations en pédiatrie sont proposées, le titre de spécialiste correspondant est obligatoire. Les qualifications de spécialiste avec titre de formation approfondie en médecine de l’enfant et de l’adolescent sont décrites dans le document « Exigences supplémentaires portant sur des prestations spécifiques - Soins somatiques aigus°».
A7: Pour chaque groupe de prestations, la rapidité avec laquelle l’hôpital doit pouvoir disposer d’un spécialiste ou d’un médecin au bénéfice de la qualification de spécialiste correspondante (MQS) est déterminée et doit être garantie 24 heures sur 24, 365 jours par an. Ces conditions s’appliquent également en cas de recours à des médecins agréés ou consultants.
B9: Disponibilité des spécialistes nécessaires
B10: Niveau 1 | C10: Spéc. joignable ≤ 60 minutes ou transfert | D10: Le MQS est joignable dans l’heure ou le patient est transféré dans l’heure.
B11: Niveau 2 | C11: Intervention spéc. ≤ 60 minutes | D11: Le MQS est joignable en tout temps. Une intervention diagnostique ou thérapeutique est possible dans l’heure ; elle peut être assurée par un autre biais dans des cas exceptionnels.
B12: Niveau 3 | C12: Intervention spéc. ≤ 30 minutes | D12: Le MQS est joignable en tout temps. Une intervention diagnostique ou thérapeutique est possible dans les 30 minutes.
B13: Niveau 4 (obstétrique) | C13: Intervention spéc. ≤ 15 minutes | D13: Le MQS en obstétrique est à l’hôpital dans les 15 minutes.
A14: Nous vous prions de bien vouloir nous fournir les informations relatives aux spécialistes indiqués ci-après. Il faut indiquer le nombre de spécialistes ainsi que leur disponibilité à partir de 2024 pour chaque titre de spécialisation.
A15: Titre fédéral de spécialiste ou titre étranger équivalent. Les formations approfondies ne peuvent pas être considérées comme des titres séparés. | B15: Nombre prévu de spécialistes | D15: Niveau de disponibilité des spécialistes | E15: Remarques, notamment en cas d’écart
B16: à partir de 2024 | D16: à partir de 2024 | F16: FA SL 2022?
A17: Médecine interne générale (sans formation approfondie) | F17: =+IF(B17>0,2,0) -> 0
A18: Médecine interne générale, avec formation approfondie en gériatrie | F18: =+IF(B18>0,2,0) -> 0
A19: Anesthésiologie | F19: =+IF(B19>0,2,0) -> 0
A20: Angiologie | F20: =+IF(B20>0,2,0) -> 0
A21: Chirurgie (sans formation approfondie) | F21: =+IF(B21>0,2,0) -> 0
A22: Chirurgie, avec formation approfondie - Chirurgie générale et traumatologie | F22: =+IF(B22>0,2,0) -> 0
A23: Chirurgie vasculaire | F23: =+IF(B23>0,2,0) -> 0
A24: Chirurgie thoracique | F24: =+IF(B24>0,2,0) -> 0
A25: Chirurgie avec formation approfondie en chirurgie viscérale | F25: =+IF(B25>0,2,0) -> 0
A26: Dermatologie et vénérologie | F26: =+IF(B26>0,2,0) -> 0
A27: Endocrinologie / diabétologie | F27: =+IF(B27>0,2,0) -> 0
A28: Gastroentérologie | F28: =+IF(B28>0,2,0) -> 0
A29: Gynécologie et obstétrique (sans formation approfondie) | F29: =+IF(B29>0,2,0) -> 0 | G29: 1 | H29: 2 | I29: 3 | J29: 4
A30: Gynécologie et obstétrique avec formation approfondie en médecine médecine fœto-maternelle | F30: =+IF(B30>0,2,0) -> 0 | G30: 1 | H30: 2 | I30: 3 | J30: 4
A31: Hématologie | F31: =+IF(B31>0,2,0) -> 0
A32: Chirurgie de la main | F32: =+IF(B32>0,2,0) -> 0
A33: Chirurgie cardiaque et vasculaire thoracique | F33: =+IF(B33>0,2,0) -> 0
A34: Infectiologie | F34: =+IF(B34>0,2,0) -> 0
A35: Médecine intensive | F35: =+IF(B35>0,2,0) -> 0
A36: Radiologie interventionnelle EBIR | F36: =+IF(B36>0,2,0) -> 0
A37: Cardiologie | F37: =+IF(B37>0,2,0) -> 0
A38: Chirurgie orale et maxillo-faciale | F38: =+IF(B38>0,2,0) -> 0
A39: Médecine de l’enfant et de l’adolescent (sans formation approfondie) | F39: =+IF(B39>0,2,0) -> 0
A40: Médecine de l’enfant et de l’adolescent avec formation approfondie en néonatologie | F40: =+IF(B40>0,2,0) -> 0
A41: Chirurgie pédiatrique (sans formation approfondie) | F41: =+IF(B41>0,2,0) -> 0
A42: Oncologie médicale | F42: =+IF(B42>0,2,0) -> 0
...

Sheet 3.3
A1: ='3.1'!$A$1 -> Offre de l’établissement hospitalier : | D1: Pour le site :
A2: ='Page de garde'!$A$9 -> Veuillez saisir : établissement hospitalier | D2: ='Page de garde'!$A$12 -> Veuillez saisir : site
A3: 3.3 Exigences relatives au service d’urgences
A5: Les sites hospitaliers fournissant le paquet de base (PB) et accueillant donc des patients en urgence doivent impérativement disposer d’un service d’urgences adéquat. Les exigences relatives aux services d’urgence sont classées en niveaux 1 à 3 en fonction de l’urgence des traitements d’urgence par groupe de prestations. Des exigences spécifiques pour les cas d’urgence en obstétrique sont en outre définies au niveau 4. Nous vous prions de bien vouloir indiquer le niveau d’urgence que vous visez pour la liste hospitalière 2024 dans les champs jaune clair ci-dessous.
A7: L’accueil de patients transférés par les services d’urgence ou le transfert de patients à ces services se font conformément au protocole de prise en charge SSMUS. Même en cas d’accueil d’urgence, l’éventail de prestations autorisées selon le mandat de prestation doit être observé dans toute la mesure du possible. Les informations disponibles au moment de la décision sont déterminantes pour les traitements attendus.
A9: Exigences | B9: Niveau 1 | D9: Niveau 2 | F9: Niveau 3 | I9: Niveau 4 Obstétrique
