BEGIN:VCALENDAR
PRODID:-//Microsoft Corporation//Outlook 16.0 MIMEDIR//EN
VERSION:2.0
METHOD:PUBLISH
X-CALSTART:20270802T000000
X-CALEND:20280729T000000
X-WR-RELCALID:{0000002E-FA6C-C2B7-D706-5F4173CD8DFC}
X-WR-CALNAME:Mehrheits- Schulkalender 2027-2028
BEGIN:VEVENT
CLASS:PUBLIC
CREATED:20240820T120206Z
DTEND;VALUE=DATE:20270826
DTSTAMP:20240820T123800Z
DTSTART;VALUE=DATE:20270802
LAST-MODIFIED:20240820T120206Z
PRIORITY:5
SEQUENCE:0
SUMMARY;LANGUAGE=fr-ch:Ferien
TRANSP:TRANSPARENT
UID:040000008200E00074C5B7101A82E00800000000D016748A09F3DA01000000000000000
	010000000381FB6F09DA55F4D9DC92BA7BD6F8ED3
X-MICROSOFT-CDO-BUSYSTATUS:FREE
X-MICROSOFT-CDO-IMPORTANCE:1
X-MICROSOFT-DISALLOW-COUNTER:FALSE
X-MS-OLK-CONFTYPE:0
BEGIN:VALARM
TRIGGER:-PT1080M
ACTION:DISPLAY
DESCRIPTION:Reminder
END:VALARM
END:VEVENT
BEGIN:VEVENT
CLASS:PUBLIC
CREATED:20240820T120216Z
DTEND;VALUE=DATE:20270827
DTSTAMP:20240820T123800Z
DTSTART;VALUE=DATE:20270826
LAST-MODIFIED:20240820T120216Z
PRIORITY:5
SEQUENCE:0
SUMMARY;LANGUAGE=fr-ch:Anfang Schuljahr
TRANSP:TRANSPARENT
UID:040000008200E00074C5B7101A82E00800000000D053AE9009F3DA01000000000000000
	010000000F38C5243355F704F93DF5E37C193EC0F
X-MICROSOFT-CDO-BUSYSTATUS:FREE
X-MICROSOFT-CDO-IMPORTANCE:1
X-MICROSOFT-DISALLOW-COUNTER:FALSE
X-MS-OLK-CONFTYPE:0
BEGIN:VALARM
TRIGGER:-PT1080M
ACTION:DISPLAY
DESCRIPTION:Reminder
END:VALARM
END:VEVENT
BEGIN:VEVENT
CLASS:PUBLIC
CREATED:20240820T120257Z
DTEND;VALUE=DATE:20271030
DTSTAMP:20240820T123800Z
DTSTART;VALUE=DATE:20271018
LAST-MODIFIED:20240820T120257Z
PRIORITY:5
SEQUENCE:0
SUMMARY;LANGUAGE=fr-ch:Herbstferien
TRANSP:TRANSPARENT
UID:040000008200E00074C5B7101A82E00800000000209F2CA909F3DA01000000000000000
	010000000F3B1E02788B40B42A4AF74F1AE6C757F
X-MICROSOFT-CDO-BUSYSTATUS:FREE
X-MICROSOFT-CDO-IMPORTANCE:1
X-MICROSOFT-DISALLOW-COUNTER:FALSE
X-MS-OLK-CONFTYPE:0
BEGIN:VALARM
TRIGGER:-PT1080M
ACTION:DISPLAY
DESCRIPTION:Reminder
END:VALARM
END:VEVENT
BEGIN:VEVENT
CLASS:PUBLIC
CREATED:20240820T120416Z
DTEND;VALUE=DATE:20271102
DTSTAMP:20240820T123800Z
DTSTART;VALUE=DATE:20271101
LAST-MODIFIED:20240820T120416Z
PRIORITY:5
SEQUENCE:0
SUMMARY;LANGUAGE=fr-ch:Allerheiligen
TRANSP:TRANSPARENT
UID:040000008200E00074C5B7101A82E00800000000D0DBFFD909F3DA01000000000000000
	0100000001E5BC492C949984ABC8BF35260E9901D
X-MICROSOFT-CDO-BUSYSTATUS:FREE
X-MICROSOFT-CDO-IMPORTANCE:1
X-MICROSOFT-DISALLOW-COUNTER:FALSE
X-MS-OLK-CONFTYPE:0
BEGIN:VALARM
TRIGGER:-PT1080M
ACTION:DISPLAY
DESCRIPTION:Reminder
END:VALARM
END:VEVENT
BEGIN:VEVENT
CLASS:PUBLIC
CREATED:20240820T120604Z
DTEND;VALUE=DATE:20271209
DTSTAMP:20240820T123800Z
DTSTART;VALUE=DATE:20271208
LAST-MODIFIED:20240820T120604Z
PRIORITY:5
SEQUENCE:0
SUMMARY;LANGUAGE=fr-ch:Unbefleckte Empfängnis
TRANSP:TRANSPARENT
UID:040000008200E00074C5B7101A82E0080000000070DCBA190AF3DA01000000000000000
	010000000FAC8ACD2380F574A922028173F6EF4BC
X-MICROSOFT-CDO-BUSYSTATUS:FREE
X-MICROSOFT-CDO-IMPORTANCE:1
X-MICROSOFT-DISALLOW-COUNTER:FALSE
X-MS-OLK-CONFTYPE:0
BEGIN:VALARM
TRIGGER:-PT1080M
ACTION:DISPLAY
DESCRIPTION:Reminder
END:VALARM
END:VEVENT
BEGIN:VEVENT
CLASS:PUBLIC
CREATED:20240820T120634Z
DTEND;VALUE=DATE:20280101
DTSTAMP:20240820T123800Z
DTSTART;VALUE=DATE:20271220
LAST-MODIFIED:20240820T120634Z
PRIORITY:5
SEQUENCE:0
SUMMARY;LANGUAGE=fr-ch:Weihnachtsferien
TRANSP:TRANSPARENT
UID:040000008200E00074C5B7101A82E00800000000D0050D2A0AF3DA01000000000000000
	010000000FF1A5F9EC85D514CAA3853E98A15424B
X-MICROSOFT-CDO-BUSYSTATUS:FREE
X-MICROSOFT-CDO-IMPORTANCE:1
X-MICROSOFT-DISALLOW-COUNTER:FALSE
X-MS-OLK-CONFTYPE:0
BEGIN:VALARM
TRIGGER:-PT1080M
ACTION:DISPLAY
DESCRIPTION:Reminder
END:VALARM
END:VEVENT
BEGIN:VEVENT
CLASS:PUBLIC
CREATED:20240820T120959Z
DTEND;VALUE=DATE:20280304
DTSTAMP:20240820T123800Z
DTSTART;VALUE=DATE:20280228
LAST-MODIFIED:20240820T120959Z
PRIORITY:5
SEQUENCE:0
SUMMARY;LANGUAGE=fr-ch:Fasnachtsferien
TRANSP:TRANSPARENT
UID:040000008200E00074C5B7101A82E00800000000A0B9A9A40AF3DA01000000000000000
	010000000528E935ECA124643901BEC6A6DEC7362
X-MICROSOFT-CDO-BUSYSTATUS:FREE
X-MICROSOFT-CDO-IMPORTANCE:1
X-MICROSOFT-DISALLOW-COUNTER:FALSE
X-MS-OLK-CONFTYPE:0
BEGIN:VALARM
TRIGGER:-PT1080M
ACTION:DISPLAY
DESCRIPTION:Reminder
END:VALARM
END:VEVENT
BEGIN:VEVENT
CLASS:PUBLIC
CREATED:20240820T121023Z
DTEND;VALUE=DATE:20280429
DTSTAMP:20240820T123800Z
DTSTART;VALUE=DATE:20280414
LAST-MODIFIED:20240820T121023Z
PRIORITY:5
SEQUENCE:0
SUMMARY;LANGUAGE=fr-ch:Osterferien
TRANSP:TRANSPARENT
UID:040000008200E00074C5B7101A82E00800000000D00CAFB20AF3DA01000000000000000
	0100000007ED6152B8B01AF4F94C6D1A28E7664B1
X-MICROSOFT-CDO-BUSYSTATUS:FREE
X-MICROSOFT-CDO-IMPORTANCE:1
X-MICROSOFT-DISALLOW-COUNTER:FALSE
X-MS-OLK-CONFTYPE:0
BEGIN:VALARM
TRIGGER:-PT1080M
ACTION:DISPLAY
DESCRIPTION:Reminder
END:VALARM
END:VEVENT
BEGIN:VEVENT
CLASS:PUBLIC
CREATED:20240820T121031Z
DTEND;VALUE=DATE:20280526
DTSTAMP:20240820T123800Z
DTSTART;VALUE=DATE:20280525
LAST-MODIFIED:20240820T121101Z
PRIORITY:5
SEQUENCE:0
SUMMARY;LANGUAGE=fr-ch:Auffahrt
TRANSP:TRANSPARENT
UID:040000008200E00074C5B7101A82E0080000000090570EBC0AF3DA01000000000000000
	010000000EA82F3CF0ED45148B87E603A5B4E4DC9
X-MICROSOFT-CDO-BUSYSTATUS:FREE
X-MICROSOFT-CDO-IMPORTANCE:1
X-MICROSOFT-DISALLOW-COUNTER:FALSE
X-MS-OLK-CONFTYPE:0
BEGIN:VALARM
TRIGGER:-PT1080M
ACTION:DISPLAY
DESCRIPTION:Reminder
END:VALARM
END:VEVENT
BEGIN:VEVENT
CLASS:PUBLIC
CREATED:20240820T121050Z
DTEND;VALUE=DATE:20280527
DTSTAMP:20240820T123800Z
DTSTART;VALUE=DATE:20280526
LAST-MODIFIED:20240820T121050Z
PRIORITY:5
SEQUENCE:0
SUMMARY;LANGUAGE=fr-ch:Brücke nach Auffahrt
TRANSP:TRANSPARENT
UID:040000008200E00074C5B7101A82E00800000000F08242CA0AF3DA01000000000000000
	0100000003CB0FD3A1FBD73469C3F77145B7EC65F
X-MICROSOFT-CDO-BUSYSTATUS:FREE
X-MICROSOFT-CDO-IMPORTANCE:1
X-MICROSOFT-DISALLOW-COUNTER:FALSE
X-MS-OLK-CONFTYPE:0
BEGIN:VALARM
TRIGGER:-PT1080M
ACTION:DISPLAY
DESCRIPTION:Reminder
END:VALARM
END:VEVENT
BEGIN:VEVENT
CLASS:PUBLIC
CREATED:20240820T121109Z
DTEND;VALUE=DATE:20280606
DTSTAMP:20240820T123800Z
DTSTART;VALUE=DATE:20280605
LAST-MODIFIED:20240820T121109Z
PRIORITY:5
SEQUENCE:0
SUMMARY;LANGUAGE=fr-ch:Pfingstmontag
TRANSP:TRANSPARENT
UID:040000008200E00074C5B7101A82E008000000003006A3D30AF3DA01000000000000000
	010000000D2181C966BCF8B4584A0BFCB49AF82CE
X-MICROSOFT-CDO-BUSYSTATUS:FREE
X-MICROSOFT-CDO-IMPORTANCE:1
X-MICROSOFT-DISALLOW-COUNTER:FALSE
X-MS-OLK-CONFTYPE:0
BEGIN:VALARM
TRIGGER:-PT1080M
ACTION:DISPLAY
DESCRIPTION:Reminder
END:VALARM
END:VEVENT
BEGIN:VEVENT
CLASS:PUBLIC
CREATED:20240820T121123Z
DTEND;VALUE=DATE:20280616
DTSTAMP:20240820T123800Z
DTSTART;VALUE=DATE:20280615
LAST-MODIFIED:20240820T121123Z
PRIORITY:5
SEQUENCE:0
SUMMARY;LANGUAGE=fr-ch:Fronleichnam
TRANSP:TRANSPARENT
UID:040000008200E00074C5B7101A82E00800000000309EA1DD0AF3DA01000000000000000
	0100000000E61A317E2447E46810C8907E0CF518C
X-MICROSOFT-CDO-BUSYSTATUS:FREE
X-MICROSOFT-CDO-IMPORTANCE:1
X-MICROSOFT-DISALLOW-COUNTER:FALSE
X-MS-OLK-CONFTYPE:0
BEGIN:VALARM
TRIGGER:-PT1080M
ACTION:DISPLAY
DESCRIPTION:Reminder
END:VALARM
END:VEVENT
BEGIN:VEVENT
CLASS:PUBLIC
CREATED:20240820T121140Z
DTEND;VALUE=DATE:20280708
DTSTAMP:20240820T123800Z
DTSTART;VALUE=DATE:20280707
LAST-MODIFIED:20240820T123745Z
PRIORITY:5
SEQUENCE:0
SUMMARY;LANGUAGE=fr-ch:Letzter Schultag
TRANSP:TRANSPARENT
UID:040000008200E00074C5B7101A82E00800000000E0A2A3E50AF3DA01000000000000000
	0100000000B626D97C0F0AC48A87348E6154C5D8D
X-MICROSOFT-CDO-BUSYSTATUS:FREE
X-MICROSOFT-CDO-IMPORTANCE:1
X-MICROSOFT-DISALLOW-COUNTER:FALSE
X-MS-OLK-CONFTYPE:0
BEGIN:VALARM
TRIGGER:-PT1080M
ACTION:DISPLAY
DESCRIPTION:Reminder
END:VALARM
END:VEVENT
BEGIN:VEVENT
CLASS:PUBLIC
CREATED:20240820T121201Z
DTEND;VALUE=DATE:20280729
DTSTAMP:20240820T123800Z
DTSTART;VALUE=DATE:20280710
LAST-MODIFIED:20240820T121201Z
PRIORITY:5
SEQUENCE:0
SUMMARY;LANGUAGE=fr-ch:Ferien
TRANSP:TRANSPARENT
UID:040000008200E00074C5B7101A82E00800000000305139ED0AF3DA01000000000000000
	010000000A9D79F6EC80DE649BA1054A33C57CFB8
X-MICROSOFT-CDO-BUSYSTATUS:FREE
X-MICROSOFT-CDO-IMPORTANCE:1
X-MICROSOFT-DISALLOW-COUNTER:FALSE
X-MS-OLK-CONFTYPE:0
BEGIN:VALARM
TRIGGER:-PT1080M
ACTION:DISPLAY
DESCRIPTION:Reminder
END:VALARM
END:VEVENT
END:VCALENDAR
