BEGIN:VCALENDAR
PRODID:-//Microsoft Corporation//Outlook 16.0 MIMEDIR//EN
VERSION:2.0
METHOD:PUBLISH
X-CALSTART:20260803T000000
X-CALEND:20270731T000000
X-WR-RELCALID:{0000002E-4435-C0F1-D706-5F4273CD8DFC}
X-WR-CALNAME:Mehrheits- Schulkalender 2026-2027
BEGIN:VEVENT
CLASS:PUBLIC
CREATED:20240820T113804Z
DTEND;VALUE=DATE:20260827
DTSTAMP:20240820T115928Z
DTSTART;VALUE=DATE:20260803
LAST-MODIFIED:20240820T113804Z
PRIORITY:5
SEQUENCE:0
SUMMARY;LANGUAGE=fr-ch:Ferien
TRANSP:TRANSPARENT
UID:040000008200E00074C5B7101A82E00800000000101D2D2F06F3DA01000000000000000
	010000000453F31F6A1E49041827273A9EC5302A9
X-MICROSOFT-CDO-BUSYSTATUS:FREE
X-MICROSOFT-CDO-IMPORTANCE:1
X-MICROSOFT-DISALLOW-COUNTER:FALSE
X-MS-OLK-CONFTYPE:0
BEGIN:VALARM
TRIGGER:-PT1080M
ACTION:DISPLAY
DESCRIPTION:Reminder
END:VALARM
END:VEVENT
BEGIN:VEVENT
CLASS:PUBLIC
CREATED:20240820T113817Z
DTEND;VALUE=DATE:20260828
DTSTAMP:20240820T115928Z
DTSTART;VALUE=DATE:20260827
LAST-MODIFIED:20240820T113826Z
PRIORITY:5
SEQUENCE:0
SUMMARY;LANGUAGE=fr-ch:Anfang Schuljahr
TRANSP:TRANSPARENT
UID:040000008200E00074C5B7101A82E0080000000030B2063706F3DA01000000000000000
	0100000003667DA37B2DE714B9EA34D5C34A39A26
X-MICROSOFT-CDO-BUSYSTATUS:FREE
X-MICROSOFT-CDO-IMPORTANCE:1
X-MICROSOFT-DISALLOW-COUNTER:FALSE
X-MS-OLK-CONFTYPE:0
BEGIN:VALARM
TRIGGER:-PT15M
ACTION:DISPLAY
DESCRIPTION:Reminder
END:VALARM
END:VEVENT
BEGIN:VEVENT
CLASS:PUBLIC
CREATED:20240820T113925Z
DTEND;VALUE=DATE:20261024
DTSTAMP:20240820T115928Z
DTSTART;VALUE=DATE:20261012
LAST-MODIFIED:20240820T113925Z
PRIORITY:5
SEQUENCE:0
SUMMARY;LANGUAGE=fr-ch:Herbstferien
TRANSP:TRANSPARENT
UID:040000008200E00074C5B7101A82E00800000000C0E4575F06F3DA01000000000000000
	010000000996538AE7289244EBBF3A74276C80FB7
X-MICROSOFT-CDO-BUSYSTATUS:FREE
X-MICROSOFT-CDO-IMPORTANCE:1
X-MICROSOFT-DISALLOW-COUNTER:FALSE
X-MS-OLK-CONFTYPE:0
BEGIN:VALARM
TRIGGER:-PT1080M
ACTION:DISPLAY
DESCRIPTION:Reminder
END:VALARM
END:VEVENT
BEGIN:VEVENT
CLASS:PUBLIC
CREATED:20240820T113941Z
DTEND;VALUE=DATE:20261102
DTSTAMP:20240820T115928Z
DTSTART;VALUE=DATE:20261101
LAST-MODIFIED:20240820T113941Z
PRIORITY:5
SEQUENCE:0
SUMMARY;LANGUAGE=fr-ch:Allerheiligen
TRANSP:TRANSPARENT
UID:040000008200E00074C5B7101A82E0080000000090E01D6906F3DA01000000000000000
	010000000A1E6269D49D9F448AE37EA365E164640
X-MICROSOFT-CDO-BUSYSTATUS:FREE
X-MICROSOFT-CDO-IMPORTANCE:1
X-MICROSOFT-DISALLOW-COUNTER:FALSE
X-MS-OLK-CONFTYPE:0
BEGIN:VALARM
TRIGGER:-PT1080M
ACTION:DISPLAY
DESCRIPTION:Reminder
END:VALARM
END:VEVENT
BEGIN:VEVENT
CLASS:PUBLIC
CREATED:20240820T113951Z
DTEND;VALUE=DATE:20261209
DTSTAMP:20240820T115928Z
DTSTART;VALUE=DATE:20261208
LAST-MODIFIED:20240820T113951Z
PRIORITY:5
SEQUENCE:0
SUMMARY;LANGUAGE=fr-ch:Unbefleckte Empfängnis
TRANSP:TRANSPARENT
UID:040000008200E00074C5B7101A82E00800000000C0C1A07A06F3DA01000000000000000
	010000000067EAFBC7F56644E85C2F847CB31E741
X-MICROSOFT-CDO-BUSYSTATUS:FREE
X-MICROSOFT-CDO-IMPORTANCE:1
X-MICROSOFT-DISALLOW-COUNTER:FALSE
X-MS-OLK-CONFTYPE:0
BEGIN:VALARM
TRIGGER:-PT1080M
ACTION:DISPLAY
DESCRIPTION:Reminder
END:VALARM
END:VEVENT
BEGIN:VEVENT
CLASS:PUBLIC
CREATED:20240820T114106Z
DTEND;VALUE=DATE:20270102
DTSTAMP:20240820T115928Z
DTSTART;VALUE=DATE:20261221
LAST-MODIFIED:20240820T115317Z
PRIORITY:5
SEQUENCE:0
SUMMARY;LANGUAGE=fr-ch:Weihnachtsferien
TRANSP:TRANSPARENT
UID:040000008200E00074C5B7101A82E00800000000C07B399B06F3DA01000000000000000
	010000000C1978D9B47307144BEE433E0B7A87C80
X-MICROSOFT-CDO-BUSYSTATUS:FREE
X-MICROSOFT-CDO-IMPORTANCE:1
X-MICROSOFT-DISALLOW-COUNTER:FALSE
X-MS-OLK-CONFTYPE:0
BEGIN:VALARM
TRIGGER:-PT1080M
ACTION:DISPLAY
DESCRIPTION:Reminder
END:VALARM
END:VEVENT
BEGIN:VEVENT
CLASS:PUBLIC
CREATED:20240820T115424Z
DTEND;VALUE=DATE:20270213
DTSTAMP:20240820T115928Z
DTSTART;VALUE=DATE:20270208
LAST-MODIFIED:20240820T115424Z
PRIORITY:5
SEQUENCE:0
SUMMARY;LANGUAGE=fr-ch:Fasnachtsferien
TRANSP:TRANSPARENT
UID:040000008200E00074C5B7101A82E00800000000608A617708F3DA01000000000000000
	0100000008A9FE2C6720EE34190800DB1857CC981
X-MICROSOFT-CDO-BUSYSTATUS:FREE
X-MICROSOFT-CDO-IMPORTANCE:1
X-MICROSOFT-DISALLOW-COUNTER:FALSE
X-MS-OLK-CONFTYPE:0
BEGIN:VALARM
TRIGGER:-PT1080M
ACTION:DISPLAY
DESCRIPTION:Reminder
END:VALARM
END:VEVENT
BEGIN:VEVENT
CLASS:PUBLIC
CREATED:20240820T115450Z
DTEND;VALUE=DATE:20270410
DTSTAMP:20240820T115928Z
DTSTART;VALUE=DATE:20270326
LAST-MODIFIED:20240820T115450Z
PRIORITY:5
SEQUENCE:0
SUMMARY;LANGUAGE=fr-ch:Osterferien
TRANSP:TRANSPARENT
UID:040000008200E00074C5B7101A82E0080000000000F5608608F3DA01000000000000000
	0100000005AF5EEA8AC79F6459B1F1644DAB3D665
X-MICROSOFT-CDO-BUSYSTATUS:FREE
X-MICROSOFT-CDO-IMPORTANCE:1
X-MICROSOFT-DISALLOW-COUNTER:FALSE
X-MS-OLK-CONFTYPE:0
BEGIN:VALARM
TRIGGER:-PT1080M
ACTION:DISPLAY
DESCRIPTION:Reminder
END:VALARM
END:VEVENT
BEGIN:VEVENT
CLASS:PUBLIC
CREATED:20240820T115527Z
DTEND;VALUE=DATE:20270507
DTSTAMP:20240820T115928Z
DTSTART;VALUE=DATE:20270506
LAST-MODIFIED:20240820T115527Z
PRIORITY:5
SEQUENCE:0
SUMMARY;LANGUAGE=fr-ch:Auffahrt
TRANSP:TRANSPARENT
UID:040000008200E00074C5B7101A82E00800000000D029F0A108F3DA01000000000000000
	0100000004E7E4759A8625D409D3619CBE9DC44CC
X-MICROSOFT-CDO-BUSYSTATUS:FREE
X-MICROSOFT-CDO-IMPORTANCE:1
X-MICROSOFT-DISALLOW-COUNTER:FALSE
X-MS-OLK-CONFTYPE:0
BEGIN:VALARM
TRIGGER:-PT1080M
ACTION:DISPLAY
DESCRIPTION:Reminder
END:VALARM
END:VEVENT
BEGIN:VEVENT
CLASS:PUBLIC
CREATED:20240820T115546Z
DTEND;VALUE=DATE:20270508
DTSTAMP:20240820T115928Z
DTSTART;VALUE=DATE:20270507
LAST-MODIFIED:20240820T115546Z
PRIORITY:5
SEQUENCE:0
SUMMARY;LANGUAGE=fr-ch:Brücke nach Auffahrt
TRANSP:TRANSPARENT
UID:040000008200E00074C5B7101A82E0080000000060372EA808F3DA01000000000000000
	010000000560562100A5A024D820F1058BA5203DB
X-MICROSOFT-CDO-BUSYSTATUS:FREE
X-MICROSOFT-CDO-IMPORTANCE:1
X-MICROSOFT-DISALLOW-COUNTER:FALSE
X-MS-OLK-CONFTYPE:0
BEGIN:VALARM
TRIGGER:-PT15M
ACTION:DISPLAY
DESCRIPTION:Reminder
END:VALARM
END:VEVENT
BEGIN:VEVENT
CLASS:PUBLIC
CREATED:20240820T115648Z
DTEND;VALUE=DATE:20270518
DTSTAMP:20240820T115928Z
DTSTART;VALUE=DATE:20270517
LAST-MODIFIED:20240820T115648Z
PRIORITY:5
SEQUENCE:0
SUMMARY;LANGUAGE=fr-ch:Pfingstmontag
TRANSP:TRANSPARENT
UID:040000008200E00074C5B7101A82E0080000000050BBE3CE08F3DA01000000000000000
	0100000000577DC310583464899DC9927D856315B
X-MICROSOFT-CDO-BUSYSTATUS:FREE
X-MICROSOFT-CDO-IMPORTANCE:1
X-MICROSOFT-DISALLOW-COUNTER:FALSE
X-MS-OLK-CONFTYPE:0
BEGIN:VALARM
TRIGGER:-PT1080M
ACTION:DISPLAY
DESCRIPTION:Reminder
END:VALARM
END:VEVENT
BEGIN:VEVENT
CLASS:PUBLIC
CREATED:20240820T115705Z
DTEND;VALUE=DATE:20270528
DTSTAMP:20240820T115928Z
DTSTART;VALUE=DATE:20270527
LAST-MODIFIED:20240820T115705Z
PRIORITY:5
SEQUENCE:0
SUMMARY;LANGUAGE=fr-ch:Fronleichnam
TRANSP:TRANSPARENT
UID:040000008200E00074C5B7101A82E00800000000F04893D808F3DA01000000000000000
	010000000E3F096802A004E4993FCA4C3FF3A6245
X-MICROSOFT-CDO-BUSYSTATUS:FREE
X-MICROSOFT-CDO-IMPORTANCE:1
X-MICROSOFT-DISALLOW-COUNTER:FALSE
X-MS-OLK-CONFTYPE:0
BEGIN:VALARM
TRIGGER:-PT1080M
ACTION:DISPLAY
DESCRIPTION:Reminder
END:VALARM
END:VEVENT
BEGIN:VEVENT
CLASS:PUBLIC
CREATED:20240820T115733Z
DTEND;VALUE=DATE:20270710
DTSTAMP:20240820T115928Z
DTSTART;VALUE=DATE:20270709
LAST-MODIFIED:20240820T115733Z
PRIORITY:5
SEQUENCE:0
SUMMARY;LANGUAGE=fr-ch:Letzter Schultag
TRANSP:TRANSPARENT
UID:040000008200E00074C5B7101A82E00800000000504D00E908F3DA01000000000000000
	0100000008E3FBF9F423DA846BE1D8A04989CDE81
X-MICROSOFT-CDO-BUSYSTATUS:FREE
X-MICROSOFT-CDO-IMPORTANCE:1
X-MICROSOFT-DISALLOW-COUNTER:FALSE
X-MS-OLK-CONFTYPE:0
BEGIN:VALARM
TRIGGER:-PT1080M
ACTION:DISPLAY
DESCRIPTION:Reminder
END:VALARM
END:VEVENT
BEGIN:VEVENT
CLASS:PUBLIC
CREATED:20240820T115849Z
DTEND;VALUE=DATE:20270731
DTSTAMP:20240820T115928Z
DTSTART;VALUE=DATE:20270712
LAST-MODIFIED:20240820T115849Z
PRIORITY:5
SEQUENCE:0
SUMMARY;LANGUAGE=fr-ch:Ferien
TRANSP:TRANSPARENT
UID:040000008200E00074C5B7101A82E008000000009017151509F3DA01000000000000000
	0100000006D747CEDD9C6694ABC3B12FEEAFAAA4F
X-MICROSOFT-CDO-BUSYSTATUS:FREE
X-MICROSOFT-CDO-IMPORTANCE:1
X-MICROSOFT-DISALLOW-COUNTER:FALSE
X-MS-OLK-CONFTYPE:0
BEGIN:VALARM
TRIGGER:-PT1080M
ACTION:DISPLAY
DESCRIPTION:Reminder
END:VALARM
END:VEVENT
END:VCALENDAR
