BEGIN:VCALENDAR
PRODID:-//Microsoft Corporation//Outlook 16.0 MIMEDIR//EN
VERSION:2.0
METHOD:PUBLISH
X-CALSTART:20290801T000000
X-CALEND:20300727T000000
X-WR-RELCALID:{0000002E-BF36-9CD8-D706-5F3F73CD8DFC}
X-WR-CALNAME:Mehrheits- Schulkalender 2029-2030
BEGIN:VEVENT
CLASS:PUBLIC
CREATED:20240820T124048Z
DTEND;VALUE=DATE:20290823
DTSTAMP:20240820T124846Z
DTSTART;VALUE=DATE:20290801
LAST-MODIFIED:20240820T124131Z
PRIORITY:5
SEQUENCE:0
SUMMARY;LANGUAGE=fr-ch:Ferien
TRANSP:TRANSPARENT
UID:040000008200E00074C5B7101A82E008000000004028BCF20EF3DA01000000000000000
	010000000D9F832ED2953C34F8AA6ED091F9495B3
X-MICROSOFT-CDO-BUSYSTATUS:FREE
X-MICROSOFT-CDO-IMPORTANCE:1
X-MICROSOFT-DISALLOW-COUNTER:FALSE
X-MS-OLK-CONFTYPE:0
BEGIN:VALARM
TRIGGER:-PT1080M
ACTION:DISPLAY
DESCRIPTION:Reminder
END:VALARM
END:VEVENT
BEGIN:VEVENT
CLASS:PUBLIC
CREATED:20240820T124113Z
DTEND;VALUE=DATE:20290824
DTSTAMP:20240820T124846Z
DTSTART;VALUE=DATE:20290823
LAST-MODIFIED:20240820T124113Z
PRIORITY:5
SEQUENCE:0
SUMMARY;LANGUAGE=fr-ch:Anfang Schuljahr
TRANSP:TRANSPARENT
UID:040000008200E00074C5B7101A82E00800000000E0C3E50A0FF3DA01000000000000000
	010000000594AB298A26C3C4EB5FD6679228B285F
X-MICROSOFT-CDO-BUSYSTATUS:FREE
X-MICROSOFT-CDO-IMPORTANCE:1
X-MICROSOFT-DISALLOW-COUNTER:FALSE
X-MS-OLK-CONFTYPE:0
BEGIN:VALARM
TRIGGER:-PT1080M
ACTION:DISPLAY
DESCRIPTION:Reminder
END:VALARM
END:VEVENT
BEGIN:VEVENT
CLASS:PUBLIC
CREATED:20240820T124158Z
DTEND;VALUE=DATE:20291027
DTSTAMP:20240820T124846Z
DTSTART;VALUE=DATE:20291015
LAST-MODIFIED:20240820T124158Z
PRIORITY:5
SEQUENCE:0
SUMMARY;LANGUAGE=fr-ch:Herbstferien
TRANSP:TRANSPARENT
UID:040000008200E00074C5B7101A82E00800000000706F1B1C0FF3DA01000000000000000
	0100000000397A0AF0A15424FBDF09A6A159A9B24
X-MICROSOFT-CDO-BUSYSTATUS:FREE
X-MICROSOFT-CDO-IMPORTANCE:1
X-MICROSOFT-DISALLOW-COUNTER:FALSE
X-MS-OLK-CONFTYPE:0
BEGIN:VALARM
TRIGGER:-PT1080M
ACTION:DISPLAY
DESCRIPTION:Reminder
END:VALARM
END:VEVENT
BEGIN:VEVENT
CLASS:PUBLIC
CREATED:20240820T124249Z
DTEND;VALUE=DATE:20291102
DTSTAMP:20240820T124846Z
DTSTART;VALUE=DATE:20291101
LAST-MODIFIED:20240820T124249Z
PRIORITY:5
SEQUENCE:0
SUMMARY;LANGUAGE=fr-ch:Allerheiligen
TRANSP:TRANSPARENT
UID:040000008200E00074C5B7101A82E0080000000080338C400FF3DA01000000000000000
	010000000835861B7AA93DE42B0F6E2157CA8AD57
X-MICROSOFT-CDO-BUSYSTATUS:FREE
X-MICROSOFT-CDO-IMPORTANCE:1
X-MICROSOFT-DISALLOW-COUNTER:FALSE
X-MS-OLK-CONFTYPE:0
BEGIN:VALARM
TRIGGER:-PT1080M
ACTION:DISPLAY
DESCRIPTION:Reminder
END:VALARM
END:VEVENT
BEGIN:VEVENT
CLASS:PUBLIC
CREATED:20240820T124344Z
DTEND;VALUE=DATE:20300105
DTSTAMP:20240820T124846Z
DTSTART;VALUE=DATE:20291224
LAST-MODIFIED:20240820T124344Z
PRIORITY:5
SEQUENCE:0
SUMMARY;LANGUAGE=fr-ch:Weihnachtsferien
TRANSP:TRANSPARENT
UID:040000008200E00074C5B7101A82E00800000000B09A935B0FF3DA01000000000000000
	0100000002EF80A0B3754074F9C257E96F80E85E4
X-MICROSOFT-CDO-BUSYSTATUS:FREE
X-MICROSOFT-CDO-IMPORTANCE:1
X-MICROSOFT-DISALLOW-COUNTER:FALSE
X-MS-OLK-CONFTYPE:0
BEGIN:VALARM
TRIGGER:-PT1080M
ACTION:DISPLAY
DESCRIPTION:Reminder
END:VALARM
END:VEVENT
BEGIN:VEVENT
CLASS:PUBLIC
CREATED:20240820T124347Z
DTEND;VALUE=DATE:20291209
DTSTAMP:20240820T124846Z
DTSTART;VALUE=DATE:20291208
LAST-MODIFIED:20240820T124347Z
PRIORITY:5
SEQUENCE:0
SUMMARY;LANGUAGE=fr-ch:Unbefleckte Empfängnis
TRANSP:TRANSPARENT
UID:040000008200E00074C5B7101A82E00800000000704046660FF3DA01000000000000000
	0100000008DD6E264ABC67A48BF65BBC18E28B765
X-MICROSOFT-CDO-BUSYSTATUS:FREE
X-MICROSOFT-CDO-IMPORTANCE:1
X-MICROSOFT-DISALLOW-COUNTER:FALSE
X-MS-OLK-CONFTYPE:0
BEGIN:VALARM
TRIGGER:-PT1080M
ACTION:DISPLAY
DESCRIPTION:Reminder
END:VALARM
END:VEVENT
BEGIN:VEVENT
CLASS:PUBLIC
CREATED:20240820T124501Z
DTEND;VALUE=DATE:20300309
DTSTAMP:20240820T124846Z
DTSTART;VALUE=DATE:20300304
LAST-MODIFIED:20240820T124501Z
PRIORITY:5
SEQUENCE:0
SUMMARY;LANGUAGE=fr-ch:Fasnachtsferien
TRANSP:TRANSPARENT
UID:040000008200E00074C5B7101A82E00800000000F02914890FF3DA01000000000000000
	010000000A6F2339C56F60E4EA6B99AA21D3BA41D
X-MICROSOFT-CDO-BUSYSTATUS:FREE
X-MICROSOFT-CDO-IMPORTANCE:1
X-MICROSOFT-DISALLOW-COUNTER:FALSE
X-MS-OLK-CONFTYPE:0
BEGIN:VALARM
TRIGGER:-PT1080M
ACTION:DISPLAY
DESCRIPTION:Reminder
END:VALARM
END:VEVENT
BEGIN:VEVENT
CLASS:PUBLIC
CREATED:20240820T124525Z
DTEND;VALUE=DATE:20300531
DTSTAMP:20240820T124846Z
DTSTART;VALUE=DATE:20300530
LAST-MODIFIED:20240820T124611Z
PRIORITY:5
SEQUENCE:0
SUMMARY;LANGUAGE=fr-ch:Auffahrt
TRANSP:TRANSPARENT
UID:040000008200E00074C5B7101A82E00800000000D0CD569A0FF3DA01000000000000000
	010000000CFC6534780630B4E8875BA9F0959061D
X-MICROSOFT-CDO-BUSYSTATUS:FREE
X-MICROSOFT-CDO-IMPORTANCE:1
X-MICROSOFT-DISALLOW-COUNTER:FALSE
X-MS-OLK-CONFTYPE:0
BEGIN:VALARM
TRIGGER:-PT1080M
ACTION:DISPLAY
DESCRIPTION:Reminder
END:VALARM
END:VEVENT
BEGIN:VEVENT
CLASS:PUBLIC
CREATED:20240820T124533Z
DTEND;VALUE=DATE:20300601
DTSTAMP:20240820T124846Z
DTSTART;VALUE=DATE:20300531
LAST-MODIFIED:20240820T124611Z
PRIORITY:5
SEQUENCE:0
SUMMARY;LANGUAGE=fr-ch:Brücke nach Auffahrt
TRANSP:TRANSPARENT
UID:040000008200E00074C5B7101A82E00800000000805A8A9D0FF3DA01000000000000000
	01000000004ABC553AF2C70499DCFB6D3C4A5BC32
X-MICROSOFT-CDO-BUSYSTATUS:FREE
X-MICROSOFT-CDO-IMPORTANCE:1
X-MICROSOFT-DISALLOW-COUNTER:FALSE
X-MS-OLK-CONFTYPE:0
BEGIN:VALARM
TRIGGER:-PT1080M
ACTION:DISPLAY
DESCRIPTION:Reminder
END:VALARM
END:VEVENT
BEGIN:VEVENT
CLASS:PUBLIC
CREATED:20240820T124645Z
DTEND;VALUE=DATE:20300611
DTSTAMP:20240820T124846Z
DTSTART;VALUE=DATE:20300610
LAST-MODIFIED:20240820T124746Z
PRIORITY:5
SEQUENCE:0
SUMMARY;LANGUAGE=fr-ch:Pfingstmontag
TRANSP:TRANSPARENT
UID:040000008200E00074C5B7101A82E00800000000601E85C70FF3DA01000000000000000
	010000000CBFD5579E08C37478878B12306F383BE
X-MICROSOFT-CDO-BUSYSTATUS:FREE
X-MICROSOFT-CDO-IMPORTANCE:1
X-MICROSOFT-DISALLOW-COUNTER:FALSE
X-MS-OLK-CONFTYPE:0
BEGIN:VALARM
TRIGGER:-PT15M
ACTION:DISPLAY
DESCRIPTION:Reminder
END:VALARM
END:VEVENT
BEGIN:VEVENT
CLASS:PUBLIC
CREATED:20240820T124705Z
DTEND;VALUE=DATE:20300621
DTSTAMP:20240820T124846Z
DTSTART;VALUE=DATE:20300620
LAST-MODIFIED:20240820T124804Z
PRIORITY:5
SEQUENCE:0
SUMMARY;LANGUAGE=fr-ch:Fronleichnam
TRANSP:TRANSPARENT
UID:040000008200E00074C5B7101A82E00800000000A036BED60FF3DA01000000000000000
	0100000002DFE369C4A5309448F426C4FCA3FB7E9
X-MICROSOFT-CDO-BUSYSTATUS:FREE
X-MICROSOFT-CDO-IMPORTANCE:1
X-MICROSOFT-DISALLOW-COUNTER:FALSE
X-MS-OLK-CONFTYPE:0
BEGIN:VALARM
TRIGGER:-PT1080M
ACTION:DISPLAY
DESCRIPTION:Reminder
END:VALARM
END:VEVENT
BEGIN:VEVENT
CLASS:PUBLIC
CREATED:20240820T124810Z
DTEND;VALUE=DATE:20300706
DTSTAMP:20240820T124846Z
DTSTART;VALUE=DATE:20300705
LAST-MODIFIED:20240820T124810Z
PRIORITY:5
SEQUENCE:0
SUMMARY;LANGUAGE=fr-ch:Letzter Schultag
TRANSP:TRANSPARENT
UID:040000008200E00074C5B7101A82E00800000000D0F3D4FA0FF3DA01000000000000000
	01000000089847FF74AA37D4590AD40CF548E9C9D
X-MICROSOFT-CDO-BUSYSTATUS:FREE
X-MICROSOFT-CDO-IMPORTANCE:1
X-MICROSOFT-DISALLOW-COUNTER:FALSE
X-MS-OLK-CONFTYPE:0
BEGIN:VALARM
TRIGGER:-PT1080M
ACTION:DISPLAY
DESCRIPTION:Reminder
END:VALARM
END:VEVENT
BEGIN:VEVENT
CLASS:PUBLIC
CREATED:20240820T124829Z
DTEND;VALUE=DATE:20300727
DTSTAMP:20240820T124846Z
DTSTART;VALUE=DATE:20300708
LAST-MODIFIED:20240820T124829Z
PRIORITY:5
SEQUENCE:0
SUMMARY;LANGUAGE=fr-ch:Ferien
TRANSP:TRANSPARENT
UID:040000008200E00074C5B7101A82E0080000000000990E0510F3DA01000000000000000
	010000000E52121A0B2700241B7DDD16214AB72F7
X-MICROSOFT-CDO-BUSYSTATUS:FREE
X-MICROSOFT-CDO-IMPORTANCE:1
X-MICROSOFT-DISALLOW-COUNTER:FALSE
X-MS-OLK-CONFTYPE:0
BEGIN:VALARM
TRIGGER:-PT1080M
ACTION:DISPLAY
DESCRIPTION:Reminder
END:VALARM
END:VEVENT
END:VCALENDAR
